BEGIN:VCALENDAR
VERSION:2.0
PRODID:-//Hawthorn School - ECPv6.15.20//NONSGML v1.0//EN
CALSCALE:GREGORIAN
METHOD:PUBLISH
X-WR-CALNAME:Hawthorn School
X-ORIGINAL-URL:https://hawthornschool.com
X-WR-CALDESC:Events for Hawthorn School
REFRESH-INTERVAL;VALUE=DURATION:PT1H
X-Robots-Tag:noindex
X-PUBLISHED-TTL:PT1H
BEGIN:VTIMEZONE
TZID:America/Toronto
BEGIN:DAYLIGHT
TZOFFSETFROM:-0500
TZOFFSETTO:-0400
TZNAME:EDT
DTSTART:20250309T070000
END:DAYLIGHT
BEGIN:STANDARD
TZOFFSETFROM:-0400
TZOFFSETTO:-0500
TZNAME:EST
DTSTART:20251102T060000
END:STANDARD
BEGIN:DAYLIGHT
TZOFFSETFROM:-0500
TZOFFSETTO:-0400
TZNAME:EDT
DTSTART:20260308T070000
END:DAYLIGHT
BEGIN:STANDARD
TZOFFSETFROM:-0400
TZOFFSETTO:-0500
TZNAME:EST
DTSTART:20261101T060000
END:STANDARD
BEGIN:DAYLIGHT
TZOFFSETFROM:-0500
TZOFFSETTO:-0400
TZNAME:EDT
DTSTART:20270314T070000
END:DAYLIGHT
BEGIN:STANDARD
TZOFFSETFROM:-0400
TZOFFSETTO:-0500
TZNAME:EST
DTSTART:20271107T060000
END:STANDARD
END:VTIMEZONE
BEGIN:VEVENT
DTSTART;TZID=America/Toronto:20260401T083000
DTEND;TZID=America/Toronto:20260401T203000
DTSTAMP:20260421T110303
CREATED:20260401T133518Z
LAST-MODIFIED:20260401T133518Z
UID:5279-1775032200-1775075400@hawthornschool.com
SUMMARY:US Track & Field Meet @ York University
DESCRIPTION:
URL:https://hawthornschool.com/event/us-track-field-meet-york-university/
END:VEVENT
BEGIN:VEVENT
DTSTART;TZID=America/Toronto:20260401T101000
DTEND;TZID=America/Toronto:20260401T114500
DTSTAMP:20260421T110303
CREATED:20260401T133716Z
LAST-MODIFIED:20260401T133716Z
UID:5284-1775038200-1775043900@hawthornschool.com
SUMMARY:Gr. 11 Toastmasters Session #8
DESCRIPTION:
URL:https://hawthornschool.com/event/gr-11-toastmasters-session-8/
END:VEVENT
BEGIN:VEVENT
DTSTART;TZID=America/Toronto:20260401T124500
DTEND;TZID=America/Toronto:20260401T144000
DTSTAMP:20260421T110303
CREATED:20260401T134703Z
LAST-MODIFIED:20260401T134703Z
UID:5292-1775047500-1775054400@hawthornschool.com
SUMMARY:US Gr. 11-12 Sandwich Sister Activity
DESCRIPTION:
URL:https://hawthornschool.com/event/us-gr-11-12-sandwich-sister-activity-2/
END:VEVENT
BEGIN:VEVENT
DTSTART;TZID=America/Toronto:20260401T153000
DTEND;TZID=America/Toronto:20260401T173000
DTSTAMP:20260421T110303
CREATED:20260401T134245Z
LAST-MODIFIED:20260401T134245Z
UID:5288-1775057400-1775064600@hawthornschool.com
SUMMARY:Gr. 3-5 Vela Club
DESCRIPTION:
URL:https://hawthornschool.com/event/gr-3-5-vela-club-2/
END:VEVENT
BEGIN:VEVENT
DTSTART;TZID=America/Toronto:20260401T153500
DTEND;TZID=America/Toronto:20260401T164500
DTSTAMP:20260421T110303
CREATED:20260401T134400Z
LAST-MODIFIED:20260401T134400Z
UID:5290-1775057700-1775061900@hawthornschool.com
SUMMARY:LS Track & Field practice
DESCRIPTION:
URL:https://hawthornschool.com/event/ls-track-field-practice/
END:VEVENT
BEGIN:VEVENT
DTSTART;TZID=America/Toronto:20260401T190000
DTEND;TZID=America/Toronto:20260401T190000
DTSTAMP:20260421T110303
CREATED:20250714T191126Z
LAST-MODIFIED:20251106T205634Z
UID:4109-1775070000-1775070000@hawthornschool.com
SUMMARY:Dad's Night Out
DESCRIPTION:
URL:https://hawthornschool.com/event/dads-night-out-12/
CATEGORIES:Parents,Spring Events
END:VEVENT
END:VCALENDAR