BEGIN:VCALENDAR
VERSION:2.0
PRODID:-//Hawthorn School - ECPv6.15.20//NONSGML v1.0//EN
CALSCALE:GREGORIAN
METHOD:PUBLISH
X-WR-CALNAME:Hawthorn School
X-ORIGINAL-URL:https://hawthornschool.com
X-WR-CALDESC:Events for Hawthorn School
REFRESH-INTERVAL;VALUE=DURATION:PT1H
X-Robots-Tag:noindex
X-PUBLISHED-TTL:PT1H
BEGIN:VTIMEZONE
TZID:America/Toronto
BEGIN:DAYLIGHT
TZOFFSETFROM:-0500
TZOFFSETTO:-0400
TZNAME:EDT
DTSTART:20250309T070000
END:DAYLIGHT
BEGIN:STANDARD
TZOFFSETFROM:-0400
TZOFFSETTO:-0500
TZNAME:EST
DTSTART:20251102T060000
END:STANDARD
BEGIN:DAYLIGHT
TZOFFSETFROM:-0500
TZOFFSETTO:-0400
TZNAME:EDT
DTSTART:20260308T070000
END:DAYLIGHT
BEGIN:STANDARD
TZOFFSETFROM:-0400
TZOFFSETTO:-0500
TZNAME:EST
DTSTART:20261101T060000
END:STANDARD
BEGIN:DAYLIGHT
TZOFFSETFROM:-0500
TZOFFSETTO:-0400
TZNAME:EDT
DTSTART:20270314T070000
END:DAYLIGHT
BEGIN:STANDARD
TZOFFSETFROM:-0400
TZOFFSETTO:-0500
TZNAME:EST
DTSTART:20271107T060000
END:STANDARD
END:VTIMEZONE
BEGIN:VEVENT
DTSTART;TZID=America/Toronto:20260424T083000
DTEND;TZID=America/Toronto:20260424T083000
DTSTAMP:20260424T010215
CREATED:20260401T151310Z
LAST-MODIFIED:20260401T170351Z
UID:5351-1777019400-1777019400@hawthornschool.com
SUMMARY:ALL School Jeans Day
DESCRIPTION:
URL:https://hawthornschool.com/event/all-school-jeans-day-5/
END:VEVENT
BEGIN:VEVENT
DTSTART;TZID=America/Toronto:20260424T121500
DTEND;TZID=America/Toronto:20260424T121500
DTSTAMP:20260424T010216
CREATED:20260401T151358Z
LAST-MODIFIED:20260401T170841Z
UID:5353-1777032900-1777032900@hawthornschool.com
SUMMARY:JS/LS Pizza Lunch
DESCRIPTION:
URL:https://hawthornschool.com/event/js-ls-pizza-lunch-7/
END:VEVENT
BEGIN:VEVENT
DTSTART;TZID=America/Toronto:20260424T124500
DTEND;TZID=America/Toronto:20260424T124500
DTSTAMP:20260424T010216
CREATED:20250714T191851Z
LAST-MODIFIED:20260327T213348Z
UID:4128-1777034700-1777034700@hawthornschool.com
SUMMARY:Hawthorn Gala - Early Dismissal (no after school program)
DESCRIPTION:CLICK HERE TO BUY TICKETS
URL:https://hawthornschool.com/event/hawthorn-gala-early-dismissal-no-after-school-program/
CATEGORIES:Parents,Spring Events
END:VEVENT
BEGIN:VEVENT
DTSTART;TZID=America/Toronto:20260424T180000
DTEND;TZID=America/Toronto:20260424T180000
DTSTAMP:20260424T010216
CREATED:20260401T151444Z
LAST-MODIFIED:20260408T175954Z
UID:5355-1777053600-1777053600@hawthornschool.com
SUMMARY:HAWTHORN GALA
DESCRIPTION:
URL:https://hawthornschool.com/event/hawthorn-gala/
END:VEVENT
END:VCALENDAR