BEGIN:VCALENDAR
VERSION:2.0
PRODID:-//Hawthorn School - ECPv6.15.20//NONSGML v1.0//EN
CALSCALE:GREGORIAN
METHOD:PUBLISH
X-ORIGINAL-URL:https://hawthornschool.com
X-WR-CALDESC:Events for Hawthorn School
REFRESH-INTERVAL;VALUE=DURATION:PT1H
X-Robots-Tag:noindex
X-PUBLISHED-TTL:PT1H
BEGIN:VTIMEZONE
TZID:America/Toronto
BEGIN:DAYLIGHT
TZOFFSETFROM:-0500
TZOFFSETTO:-0400
TZNAME:EDT
DTSTART:20250309T070000
END:DAYLIGHT
BEGIN:STANDARD
TZOFFSETFROM:-0400
TZOFFSETTO:-0500
TZNAME:EST
DTSTART:20251102T060000
END:STANDARD
BEGIN:DAYLIGHT
TZOFFSETFROM:-0500
TZOFFSETTO:-0400
TZNAME:EDT
DTSTART:20260308T070000
END:DAYLIGHT
BEGIN:STANDARD
TZOFFSETFROM:-0400
TZOFFSETTO:-0500
TZNAME:EST
DTSTART:20261101T060000
END:STANDARD
BEGIN:DAYLIGHT
TZOFFSETFROM:-0500
TZOFFSETTO:-0400
TZNAME:EDT
DTSTART:20270314T070000
END:DAYLIGHT
BEGIN:STANDARD
TZOFFSETFROM:-0400
TZOFFSETTO:-0500
TZNAME:EST
DTSTART:20271107T060000
END:STANDARD
END:VTIMEZONE
BEGIN:VEVENT
DTSTART;TZID=America/Toronto:20260430T153000
DTEND;TZID=America/Toronto:20260430T153000
DTSTAMP:20260421T112251
CREATED:20260401T162854Z
LAST-MODIFIED:20260401T170226Z
UID:5377-1777563000-1777563000@hawthornschool.com
SUMMARY:Hawthorn Summer Camp "April Pricing" Ends!
DESCRIPTION:CLICK HERE
URL:https://hawthornschool.com/event/hawthorn-summer-camp-april-pricing-ends/
END:VEVENT
BEGIN:VEVENT
DTSTART;TZID=America/Toronto:20260430T083000
DTEND;TZID=America/Toronto:20260430T083000
DTSTAMP:20260421T112251
CREATED:20260401T162941Z
LAST-MODIFIED:20260401T165856Z
UID:5379-1777537800-1777537800@hawthornschool.com
SUMMARY:US Trip to Forensic Science Lab @ U of T
DESCRIPTION:
URL:https://hawthornschool.com/event/us-trip-to-forensic-science-lab-u-of-t/
END:VEVENT
BEGIN:VEVENT
DTSTART;TZID=America/Toronto:20260430T153500
DTEND;TZID=America/Toronto:20260430T164500
DTSTAMP:20260421T112251
CREATED:20260401T163129Z
LAST-MODIFIED:20260401T163129Z
UID:5381-1777563300-1777567500@hawthornschool.com
SUMMARY:US Track & Field Practice
DESCRIPTION:
URL:https://hawthornschool.com/event/us-track-field-practice-7/
END:VEVENT
BEGIN:VEVENT
DTSTART;TZID=America/Toronto:20260430T170000
DTEND;TZID=America/Toronto:20260430T170000
DTSTAMP:20260421T112251
CREATED:20250714T192047Z
LAST-MODIFIED:20251106T205455Z
UID:4132-1777568400-1777568400@hawthornschool.com
SUMMARY:Grade 6 & 7 Speech Night
DESCRIPTION:Time TBC
URL:https://hawthornschool.com/event/grade-6-7-speech-night-2/
CATEGORIES:Parents,Spring Events
END:VEVENT
END:VCALENDAR