BEGIN:VCALENDAR
VERSION:2.0
PRODID:-//Hawthorn School - ECPv6.15.20//NONSGML v1.0//EN
CALSCALE:GREGORIAN
METHOD:PUBLISH
X-ORIGINAL-URL:https://hawthornschool.com
X-WR-CALDESC:Events for Hawthorn School
REFRESH-INTERVAL;VALUE=DURATION:PT1H
X-Robots-Tag:noindex
X-PUBLISHED-TTL:PT1H
BEGIN:VTIMEZONE
TZID:America/Toronto
BEGIN:DAYLIGHT
TZOFFSETFROM:-0500
TZOFFSETTO:-0400
TZNAME:EDT
DTSTART:20240310T070000
END:DAYLIGHT
BEGIN:STANDARD
TZOFFSETFROM:-0400
TZOFFSETTO:-0500
TZNAME:EST
DTSTART:20241103T060000
END:STANDARD
BEGIN:DAYLIGHT
TZOFFSETFROM:-0500
TZOFFSETTO:-0400
TZNAME:EDT
DTSTART:20250309T070000
END:DAYLIGHT
BEGIN:STANDARD
TZOFFSETFROM:-0400
TZOFFSETTO:-0500
TZNAME:EST
DTSTART:20251102T060000
END:STANDARD
BEGIN:DAYLIGHT
TZOFFSETFROM:-0500
TZOFFSETTO:-0400
TZNAME:EDT
DTSTART:20260308T070000
END:DAYLIGHT
BEGIN:STANDARD
TZOFFSETFROM:-0400
TZOFFSETTO:-0500
TZNAME:EST
DTSTART:20261101T060000
END:STANDARD
END:VTIMEZONE
BEGIN:VEVENT
DTSTART;TZID=America/Toronto:20251120T142000
DTEND;TZID=America/Toronto:20251120T150000
DTSTAMP:20260423T152635
CREATED:20250714T154156Z
LAST-MODIFIED:20251117T142753Z
UID:3952-1763648400-1763650800@hawthornschool.com
SUMMARY:All-School Assembly
DESCRIPTION:
URL:https://hawthornschool.com/event/all-school-assembly-2/
CATEGORIES:Fall Events,Parents
END:VEVENT
BEGIN:VEVENT
DTSTART;TZID=America/Toronto:20251120T160000
DTEND;TZID=America/Toronto:20251120T200000
DTSTAMP:20260423T152635
CREATED:20250714T154248Z
LAST-MODIFIED:20251106T204624Z
UID:3954-1763654400-1763668800@hawthornschool.com
SUMMARY:JS\, LS\, & US Parent/Mentor/Teacher Interviews
DESCRIPTION:
URL:https://hawthornschool.com/event/js-ls-us-parent-mentor-teacher-interviews/
CATEGORIES:Fall Events,Parents
END:VEVENT
BEGIN:VEVENT
DTSTART;TZID=America/Toronto:20251120T190000
DTEND;TZID=America/Toronto:20251120T190000
DTSTAMP:20260423T152635
CREATED:20250714T154321Z
LAST-MODIFIED:20251106T204648Z
UID:3956-1763665200-1763665200@hawthornschool.com
SUMMARY:US Preview Night
DESCRIPTION:
URL:https://hawthornschool.com/event/us-information-night-2/
CATEGORIES:Fall Events,Parents
END:VEVENT
END:VCALENDAR