BEGIN:VCALENDAR
VERSION:2.0
PRODID:-//Hawthorn School - ECPv6.15.20//NONSGML v1.0//EN
CALSCALE:GREGORIAN
METHOD:PUBLISH
X-ORIGINAL-URL:https://hawthornschool.com
X-WR-CALDESC:Events for Hawthorn School
REFRESH-INTERVAL;VALUE=DURATION:PT1H
X-Robots-Tag:noindex
X-PUBLISHED-TTL:PT1H
BEGIN:VTIMEZONE
TZID:America/Toronto
BEGIN:DAYLIGHT
TZOFFSETFROM:-0500
TZOFFSETTO:-0400
TZNAME:EDT
DTSTART:20240310T070000
END:DAYLIGHT
BEGIN:STANDARD
TZOFFSETFROM:-0400
TZOFFSETTO:-0500
TZNAME:EST
DTSTART:20241103T060000
END:STANDARD
BEGIN:DAYLIGHT
TZOFFSETFROM:-0500
TZOFFSETTO:-0400
TZNAME:EDT
DTSTART:20250309T070000
END:DAYLIGHT
BEGIN:STANDARD
TZOFFSETFROM:-0400
TZOFFSETTO:-0500
TZNAME:EST
DTSTART:20251102T060000
END:STANDARD
BEGIN:DAYLIGHT
TZOFFSETFROM:-0500
TZOFFSETTO:-0400
TZNAME:EDT
DTSTART:20260308T070000
END:DAYLIGHT
BEGIN:STANDARD
TZOFFSETFROM:-0400
TZOFFSETTO:-0500
TZNAME:EST
DTSTART:20261101T060000
END:STANDARD
END:VTIMEZONE
BEGIN:VEVENT
DTSTART;TZID=America/Toronto:20251127T190000
DTEND;TZID=America/Toronto:20251127T190000
DTSTAMP:20260423T152642
CREATED:20250714T154354Z
LAST-MODIFIED:20251117T143057Z
UID:3958-1764270000-1764270000@hawthornschool.com
SUMMARY:Mom's Night Out
DESCRIPTION:Register here: https://forms.gle/KQTkcPGQ9ELWGBNB6
URL:https://hawthornschool.com/event/moms-night-out-2/
CATEGORIES:Fall Events,Parents
END:VEVENT
END:VCALENDAR