BEGIN:VCALENDAR
VERSION:2.0
PRODID:-//Hawthorn School - ECPv6.15.20//NONSGML v1.0//EN
CALSCALE:GREGORIAN
METHOD:PUBLISH
X-WR-CALNAME:Hawthorn School
X-ORIGINAL-URL:https://hawthornschool.com
X-WR-CALDESC:Events for Hawthorn School
REFRESH-INTERVAL;VALUE=DURATION:PT1H
X-Robots-Tag:noindex
X-PUBLISHED-TTL:PT1H
BEGIN:VTIMEZONE
TZID:America/Toronto
BEGIN:DAYLIGHT
TZOFFSETFROM:-0500
TZOFFSETTO:-0400
TZNAME:EDT
DTSTART:20250309T070000
END:DAYLIGHT
BEGIN:STANDARD
TZOFFSETFROM:-0400
TZOFFSETTO:-0500
TZNAME:EST
DTSTART:20251102T060000
END:STANDARD
BEGIN:DAYLIGHT
TZOFFSETFROM:-0500
TZOFFSETTO:-0400
TZNAME:EDT
DTSTART:20260308T070000
END:DAYLIGHT
BEGIN:STANDARD
TZOFFSETFROM:-0400
TZOFFSETTO:-0500
TZNAME:EST
DTSTART:20261101T060000
END:STANDARD
BEGIN:DAYLIGHT
TZOFFSETFROM:-0500
TZOFFSETTO:-0400
TZNAME:EDT
DTSTART:20270314T070000
END:DAYLIGHT
BEGIN:STANDARD
TZOFFSETFROM:-0400
TZOFFSETTO:-0500
TZNAME:EST
DTSTART:20271107T060000
END:STANDARD
END:VTIMEZONE
BEGIN:VEVENT
DTSTART;TZID=America/Toronto:20260320T083000
DTEND;TZID=America/Toronto:20260320T083000
DTSTAMP:20260421T174556
CREATED:20260304T163301Z
LAST-MODIFIED:20260304T163301Z
UID:5195-1773995400-1773995400@hawthornschool.com
SUMMARY:March Break
DESCRIPTION:Daycare Closed
URL:https://hawthornschool.com/event/march-break-9/
END:VEVENT
BEGIN:VEVENT
DTSTART;TZID=America/Toronto:20260319T083000
DTEND;TZID=America/Toronto:20260319T083000
DTSTAMP:20260421T174556
CREATED:20260304T163140Z
LAST-MODIFIED:20260304T163140Z
UID:5193-1773909000-1773909000@hawthornschool.com
SUMMARY:March Break
DESCRIPTION:Daycare Closed
URL:https://hawthornschool.com/event/march-break-8/
END:VEVENT
BEGIN:VEVENT
DTSTART;TZID=America/Toronto:20260318T101000
DTEND;TZID=America/Toronto:20260318T113000
DTSTAMP:20260421T174556
CREATED:20260304T162234Z
LAST-MODIFIED:20260304T162234Z
UID:5177-1773828600-1773833400@hawthornschool.com
SUMMARY:Recollection for Women
DESCRIPTION:
URL:https://hawthornschool.com/event/recollection-for-women-11/
END:VEVENT
BEGIN:VEVENT
DTSTART;TZID=America/Toronto:20260318T083000
DTEND;TZID=America/Toronto:20260318T083000
DTSTAMP:20260421T174556
CREATED:20260304T163056Z
LAST-MODIFIED:20260304T163056Z
UID:5191-1773822600-1773822600@hawthornschool.com
SUMMARY:March Break
DESCRIPTION:Daycare Closed
URL:https://hawthornschool.com/event/march-break-7/
END:VEVENT
BEGIN:VEVENT
DTSTART;TZID=America/Toronto:20260317T083000
DTEND;TZID=America/Toronto:20260317T083000
DTSTAMP:20260421T174556
CREATED:20260304T163008Z
LAST-MODIFIED:20260304T163008Z
UID:5189-1773736200-1773736200@hawthornschool.com
SUMMARY:March Break
DESCRIPTION:Daycare Closed
URL:https://hawthornschool.com/event/march-break-6/
END:VEVENT
BEGIN:VEVENT
DTSTART;TZID=America/Toronto:20260316T083000
DTEND;TZID=America/Toronto:20260316T083000
DTSTAMP:20260421T174556
CREATED:20260304T162758Z
LAST-MODIFIED:20260304T162851Z
UID:5187-1773649800-1773649800@hawthornschool.com
SUMMARY:March Break
DESCRIPTION:Daycare Closed
URL:https://hawthornschool.com/event/march-break-5/
END:VEVENT
BEGIN:VEVENT
DTSTART;TZID=America/Toronto:20260314T140500
DTEND;TZID=America/Toronto:20260314T140500
DTSTAMP:20260421T174556
CREATED:20260304T151125Z
LAST-MODIFIED:20260304T152334Z
UID:5158-1773497100-1773497100@hawthornschool.com
SUMMARY:US Students return to Canada
DESCRIPTION:Pearson Airport – Terminal 1 arrivals!
URL:https://hawthornschool.com/event/us-play-practice/
END:VEVENT
BEGIN:VEVENT
DTSTART;TZID=America/Toronto:20260313T083000
DTEND;TZID=America/Toronto:20260313T083000
DTSTAMP:20260421T174556
CREATED:20260304T162616Z
LAST-MODIFIED:20260304T162616Z
UID:5185-1773390600-1773390600@hawthornschool.com
SUMMARY:March Break
DESCRIPTION:Daycare Open
URL:https://hawthornschool.com/event/march-break-4/
END:VEVENT
BEGIN:VEVENT
DTSTART;TZID=America/Toronto:20260312T083000
DTEND;TZID=America/Toronto:20260312T083000
DTSTAMP:20260421T174556
CREATED:20260304T162527Z
LAST-MODIFIED:20260304T162527Z
UID:5183-1773304200-1773304200@hawthornschool.com
SUMMARY:March Break
DESCRIPTION:Daycare Open
URL:https://hawthornschool.com/event/march-break-3/
END:VEVENT
BEGIN:VEVENT
DTSTART;TZID=America/Toronto:20260311T083000
DTEND;TZID=America/Toronto:20260311T083000
DTSTAMP:20260421T174556
CREATED:20260304T162440Z
LAST-MODIFIED:20260304T162440Z
UID:5181-1773217800-1773217800@hawthornschool.com
SUMMARY:March Break
DESCRIPTION:Daycare Open
URL:https://hawthornschool.com/event/march-break-2/
END:VEVENT
BEGIN:VEVENT
DTSTART;TZID=America/Toronto:20260310T083000
DTEND;TZID=America/Toronto:20260310T083000
DTSTAMP:20260421T174556
CREATED:20260304T162343Z
LAST-MODIFIED:20260304T162343Z
UID:5179-1773131400-1773131400@hawthornschool.com
SUMMARY:March Break
DESCRIPTION:Daycare Open
URL:https://hawthornschool.com/event/march-break/
END:VEVENT
BEGIN:VEVENT
DTSTART;TZID=America/Toronto:20260309T083000
DTEND;TZID=America/Toronto:20260309T083000
DTSTAMP:20260421T174556
CREATED:20250714T190911Z
LAST-MODIFIED:20250714T190911Z
UID:4103-1773045000-1773045000@hawthornschool.com
SUMMARY:March Break begins
DESCRIPTION:
URL:https://hawthornschool.com/event/march-break-begins-2/
END:VEVENT
BEGIN:VEVENT
DTSTART;TZID=America/Toronto:20260306T083000
DTEND;TZID=America/Toronto:20260306T083000
DTSTAMP:20260421T174556
CREATED:20250714T190835Z
LAST-MODIFIED:20250714T190835Z
UID:4101-1772785800-1772785800@hawthornschool.com
SUMMARY:#1 Dress Day : First Friday Devotion
DESCRIPTION:
URL:https://hawthornschool.com/event/1-dress-day-first-friday-devotion-9/
END:VEVENT
BEGIN:VEVENT
DTSTART;TZID=America/Toronto:20260304T190000
DTEND;TZID=America/Toronto:20260304T190000
DTSTAMP:20260421T174556
CREATED:20250714T190746Z
LAST-MODIFIED:20251106T205303Z
UID:4099-1772650800-1772650800@hawthornschool.com
SUMMARY:Dad's Night Out
DESCRIPTION:
URL:https://hawthornschool.com/event/dads-night-out-11/
CATEGORIES:Parents,Winter Events
END:VEVENT
BEGIN:VEVENT
DTSTART;TZID=America/Toronto:20260304T110000
DTEND;TZID=America/Toronto:20260304T110000
DTSTAMP:20260421T174556
CREATED:20260304T150008Z
LAST-MODIFIED:20260304T150008Z
UID:5149-1772622000-1772622000@hawthornschool.com
SUMMARY:US Students travel to Spain
DESCRIPTION:Pearson Airport -Terminal 1 – Air Canada meet up
URL:https://hawthornschool.com/event/us-students-travel-to-spain/
END:VEVENT
BEGIN:VEVENT
DTSTART;TZID=America/Toronto:20260302T083000
DTEND;TZID=America/Toronto:20260302T083000
DTSTAMP:20260421T174556
CREATED:20250714T190707Z
LAST-MODIFIED:20251106T205311Z
UID:4097-1772440200-1772440200@hawthornschool.com
SUMMARY:Tuition Assistance Application Deadline
DESCRIPTION:
URL:https://hawthornschool.com/event/tuition-assistance-application-deadline/
CATEGORIES:Parents,Winter Events
END:VEVENT
BEGIN:VEVENT
DTSTART;TZID=America/Toronto:20260302T083000
DTEND;TZID=America/Toronto:20260302T083000
DTSTAMP:20260421T174556
CREATED:20250714T190628Z
LAST-MODIFIED:20251106T205321Z
UID:4095-1772440200-1772440200@hawthornschool.com
SUMMARY:Re-enrollment Deposit Deadline
DESCRIPTION:
URL:https://hawthornschool.com/event/re-enrollment-deposit-deadline/
CATEGORIES:Parents,Winter Events
END:VEVENT
BEGIN:VEVENT
DTSTART;TZID=America/Toronto:20260226T160000
DTEND;TZID=America/Toronto:20260226T200000
DTSTAMP:20260421T174556
CREATED:20250714T190238Z
LAST-MODIFIED:20251106T205337Z
UID:4087-1772121600-1772136000@hawthornschool.com
SUMMARY:US Parent/Mentor/Teacher Interviews
DESCRIPTION:
URL:https://hawthornschool.com/event/us-parent-mentor-teacher-interviews-2/
CATEGORIES:Parents,Winter Events
END:VEVENT
BEGIN:VEVENT
DTSTART;TZID=America/Toronto:20260226T142000
DTEND;TZID=America/Toronto:20260226T150000
DTSTAMP:20260421T174556
CREATED:20250714T190115Z
LAST-MODIFIED:20251106T205346Z
UID:4085-1772115600-1772118000@hawthornschool.com
SUMMARY:All-School Assembly
DESCRIPTION:
URL:https://hawthornschool.com/event/all-school-assembly-3/
CATEGORIES:Parents,Winter Events
END:VEVENT
BEGIN:VEVENT
DTSTART;TZID=America/Toronto:20260226T083000
DTEND;TZID=America/Toronto:20260226T083000
DTSTAMP:20260421T174556
CREATED:20250723T172748Z
LAST-MODIFIED:20250723T172748Z
UID:4227-1772094600-1772094600@hawthornschool.com
SUMMARY:#1 Dress Day : All-School Assembly
DESCRIPTION:
URL:https://hawthornschool.com/event/1-dress-day-all-school-assembly-3/
END:VEVENT
BEGIN:VEVENT
DTSTART;TZID=America/Toronto:20260218T114500
DTEND;TZID=America/Toronto:20260218T114500
DTSTAMP:20260421T174556
CREATED:20250714T185757Z
LAST-MODIFIED:20250714T185757Z
UID:4081-1771415100-1771415100@hawthornschool.com
SUMMARY:All-School Mass
DESCRIPTION:
URL:https://hawthornschool.com/event/all-school-mass-7/
END:VEVENT
BEGIN:VEVENT
DTSTART;TZID=America/Toronto:20260218T083000
DTEND;TZID=America/Toronto:20260218T083000
DTSTAMP:20260421T174556
CREATED:20250714T185712Z
LAST-MODIFIED:20251106T205359Z
UID:4079-1771403400-1771403400@hawthornschool.com
SUMMARY:#1 Dress Day : Ash Wednesday
DESCRIPTION:
URL:https://hawthornschool.com/event/1-dress-day-ash-wednesday-2/
CATEGORIES:Parents,Winter Events
END:VEVENT
BEGIN:VEVENT
DTSTART;TZID=America/Toronto:20260216T083000
DTEND;TZID=America/Toronto:20260216T083000
DTSTAMP:20260421T174556
CREATED:20250714T185627Z
LAST-MODIFIED:20250723T172236Z
UID:4077-1771230600-1771230600@hawthornschool.com
SUMMARY:Family Day - no school
DESCRIPTION:
URL:https://hawthornschool.com/event/family-day/
END:VEVENT
BEGIN:VEVENT
DTSTART;TZID=America/Toronto:20260213T083000
DTEND;TZID=America/Toronto:20260213T083000
DTSTAMP:20260421T174556
CREATED:20250714T185551Z
LAST-MODIFIED:20250714T185551Z
UID:4075-1770971400-1770971400@hawthornschool.com
SUMMARY:Faculty Development - no school
DESCRIPTION:
URL:https://hawthornschool.com/event/faculty-development-no-school-11/
END:VEVENT
BEGIN:VEVENT
DTSTART;TZID=America/Toronto:20260212T083000
DTEND;TZID=America/Toronto:20260212T083000
DTSTAMP:20260421T174556
CREATED:20250714T185428Z
LAST-MODIFIED:20250714T185506Z
UID:4073-1770885000-1770885000@hawthornschool.com
SUMMARY:Spirit of Service Week
DESCRIPTION:
URL:https://hawthornschool.com/event/spirit-of-service-week-8/
END:VEVENT
BEGIN:VEVENT
DTSTART;TZID=America/Toronto:20260211T083000
DTEND;TZID=America/Toronto:20260211T083000
DTSTAMP:20260421T174556
CREATED:20250714T185346Z
LAST-MODIFIED:20250714T185346Z
UID:4071-1770798600-1770798600@hawthornschool.com
SUMMARY:Spirit of Service Week
DESCRIPTION:
URL:https://hawthornschool.com/event/spirit-of-service-week-7/
END:VEVENT
BEGIN:VEVENT
DTSTART;TZID=America/Toronto:20260210T083000
DTEND;TZID=America/Toronto:20260210T083000
DTSTAMP:20260421T174556
CREATED:20250714T185311Z
LAST-MODIFIED:20250723T171926Z
UID:4069-1770712200-1770712200@hawthornschool.com
SUMMARY:Spirit of Service Week
DESCRIPTION:
URL:https://hawthornschool.com/event/spirit-of-service-week-6/
END:VEVENT
BEGIN:VEVENT
DTSTART;TZID=America/Toronto:20260209T151500
DTEND;TZID=America/Toronto:20260209T151500
DTSTAMP:20260421T174556
CREATED:20250714T185202Z
LAST-MODIFIED:20250714T185202Z
UID:4065-1770650100-1770650100@hawthornschool.com
SUMMARY:Muffin Monday
DESCRIPTION:
URL:https://hawthornschool.com/event/muffin-monday-3/
END:VEVENT
BEGIN:VEVENT
DTSTART;TZID=America/Toronto:20260209T083000
DTEND;TZID=America/Toronto:20260209T083000
DTSTAMP:20260421T174556
CREATED:20250714T185241Z
LAST-MODIFIED:20250714T185241Z
UID:4067-1770625800-1770625800@hawthornschool.com
SUMMARY:Spirit of Service Week
DESCRIPTION:
URL:https://hawthornschool.com/event/spirit-of-service-week-5/
END:VEVENT
BEGIN:VEVENT
DTSTART;TZID=America/Toronto:20260207T173000
DTEND;TZID=America/Toronto:20260207T173000
DTSTAMP:20260421T174556
CREATED:20250714T185108Z
LAST-MODIFIED:20251106T205415Z
UID:4063-1770485400-1770485400@hawthornschool.com
SUMMARY:Pizza & Games Night
DESCRIPTION:
URL:https://hawthornschool.com/event/pizza-games-night/
CATEGORIES:Parents,Winter Events
END:VEVENT
END:VCALENDAR