BEGIN:VCALENDAR
VERSION:2.0
PRODID:-//Hawthorn School - ECPv6.15.20//NONSGML v1.0//EN
CALSCALE:GREGORIAN
METHOD:PUBLISH
X-WR-CALNAME:Hawthorn School
X-ORIGINAL-URL:https://hawthornschool.com
X-WR-CALDESC:Events for Hawthorn School
REFRESH-INTERVAL;VALUE=DURATION:PT1H
X-Robots-Tag:noindex
X-PUBLISHED-TTL:PT1H
BEGIN:VTIMEZONE
TZID:America/Toronto
BEGIN:DAYLIGHT
TZOFFSETFROM:-0500
TZOFFSETTO:-0400
TZNAME:EDT
DTSTART:20250309T070000
END:DAYLIGHT
BEGIN:STANDARD
TZOFFSETFROM:-0400
TZOFFSETTO:-0500
TZNAME:EST
DTSTART:20251102T060000
END:STANDARD
BEGIN:DAYLIGHT
TZOFFSETFROM:-0500
TZOFFSETTO:-0400
TZNAME:EDT
DTSTART:20260308T070000
END:DAYLIGHT
BEGIN:STANDARD
TZOFFSETFROM:-0400
TZOFFSETTO:-0500
TZNAME:EST
DTSTART:20261101T060000
END:STANDARD
BEGIN:DAYLIGHT
TZOFFSETFROM:-0500
TZOFFSETTO:-0400
TZNAME:EDT
DTSTART:20270314T070000
END:DAYLIGHT
BEGIN:STANDARD
TZOFFSETFROM:-0400
TZOFFSETTO:-0500
TZNAME:EST
DTSTART:20271107T060000
END:STANDARD
END:VTIMEZONE
BEGIN:VEVENT
DTSTART;TZID=America/Toronto:20260619T103000
DTEND;TZID=America/Toronto:20260619T103000
DTSTAMP:20260421T191929
CREATED:20250714T195129Z
LAST-MODIFIED:20251106T205824Z
UID:4211-1781865000-1781865000@hawthornschool.com
SUMMARY:Upper School Closing & Graduation Ceremony
DESCRIPTION:
URL:https://hawthornschool.com/event/upper-school-closing-graduation-ceremony-2/
CATEGORIES:Parents,Spring Events
END:VEVENT
BEGIN:VEVENT
DTSTART;TZID=America/Toronto:20260619T093000
DTEND;TZID=America/Toronto:20260619T093000
DTSTAMP:20260421T191929
CREATED:20250714T195041Z
LAST-MODIFIED:20251106T205834Z
UID:4209-1781861400-1781861400@hawthornschool.com
SUMMARY:Holy Mass
DESCRIPTION:
URL:https://hawthornschool.com/event/holy-mass-4/
CATEGORIES:Parents,Spring Events
END:VEVENT
BEGIN:VEVENT
DTSTART;TZID=America/Toronto:20260619T083000
DTEND;TZID=America/Toronto:20260619T083000
DTSTAMP:20260421T191929
CREATED:20250714T195011Z
LAST-MODIFIED:20250714T195011Z
UID:4207-1781857800-1781857800@hawthornschool.com
SUMMARY:#1 Dress Day
DESCRIPTION:
URL:https://hawthornschool.com/event/1-dress-day-13/
END:VEVENT
BEGIN:VEVENT
DTSTART;TZID=America/Toronto:20260616T090000
DTEND;TZID=America/Toronto:20260616T160000
DTSTAMP:20260421T191929
CREATED:20260401T143338Z
LAST-MODIFIED:20260401T143941Z
UID:5306-1781600400-1781625600@hawthornschool.com
SUMMARY:SUMMER CAMP 2026 BEGINS!
DESCRIPTION:CLICK HERE
URL:https://hawthornschool.com/event/summer-camp-begins/
END:VEVENT
BEGIN:VEVENT
DTSTART;TZID=America/Toronto:20260612T140000
DTEND;TZID=America/Toronto:20260612T140000
DTSTAMP:20260421T191929
CREATED:20250714T194935Z
LAST-MODIFIED:20251106T205841Z
UID:4205-1781272800-1781272800@hawthornschool.com
SUMMARY:Daycare Year-End Celebration
DESCRIPTION:
URL:https://hawthornschool.com/event/daycare-year-end-celebration-2/
CATEGORIES:Parents,Spring Events
END:VEVENT
BEGIN:VEVENT
DTSTART;TZID=America/Toronto:20260612T111500
DTEND;TZID=America/Toronto:20260612T111500
DTSTAMP:20260421T191929
CREATED:20250714T194851Z
LAST-MODIFIED:20251106T205850Z
UID:4203-1781262900-1781262900@hawthornschool.com
SUMMARY:Lower School Closing Ceremony
DESCRIPTION:
URL:https://hawthornschool.com/event/lower-school-closing-ceremony-2/
CATEGORIES:Parents,Spring Events
END:VEVENT
BEGIN:VEVENT
DTSTART;TZID=America/Toronto:20260612T101500
DTEND;TZID=America/Toronto:20260612T101500
DTSTAMP:20260421T191929
CREATED:20250714T194803Z
LAST-MODIFIED:20251106T210008Z
UID:4201-1781259300-1781259300@hawthornschool.com
SUMMARY:Holy Mass
DESCRIPTION:
URL:https://hawthornschool.com/event/holy-mass-3/
CATEGORIES:Parents,Spring Events
END:VEVENT
BEGIN:VEVENT
DTSTART;TZID=America/Toronto:20260612T090000
DTEND;TZID=America/Toronto:20260612T090000
DTSTAMP:20260421T191929
CREATED:20250714T194723Z
LAST-MODIFIED:20251106T210016Z
UID:4199-1781254800-1781254800@hawthornschool.com
SUMMARY:Junior School Closing Ceremony
DESCRIPTION:
URL:https://hawthornschool.com/event/junior-school-closing-ceremony-2/
CATEGORIES:Parents,Spring Events
END:VEVENT
BEGIN:VEVENT
DTSTART;TZID=America/Toronto:20260612T083000
DTEND;TZID=America/Toronto:20260612T083000
DTSTAMP:20260421T191929
CREATED:20250714T194646Z
LAST-MODIFIED:20250714T194646Z
UID:4197-1781253000-1781253000@hawthornschool.com
SUMMARY:#1 Dress Day
DESCRIPTION:
URL:https://hawthornschool.com/event/1-dress-day-12/
END:VEVENT
BEGIN:VEVENT
DTSTART;TZID=America/Toronto:20260605T083000
DTEND;TZID=America/Toronto:20260605T083000
DTSTAMP:20260421T191929
CREATED:20250714T194610Z
LAST-MODIFIED:20251106T210025Z
UID:4195-1780648200-1780648200@hawthornschool.com
SUMMARY:Cafe Ole
DESCRIPTION:
URL:https://hawthornschool.com/event/cafe-ole-9/
CATEGORIES:Parents,Spring Events
END:VEVENT
BEGIN:VEVENT
DTSTART;TZID=America/Toronto:20260605T083000
DTEND;TZID=America/Toronto:20260605T083000
DTSTAMP:20260421T191929
CREATED:20250714T194539Z
LAST-MODIFIED:20250714T194539Z
UID:4193-1780648200-1780648200@hawthornschool.com
SUMMARY:#1 Dress Day : First Friday Devotion
DESCRIPTION:
URL:https://hawthornschool.com/event/1-dress-day-first-friday-devotion-11/
END:VEVENT
BEGIN:VEVENT
DTSTART;TZID=America/Toronto:20260604T083000
DTEND;TZID=America/Toronto:20260604T083000
DTSTAMP:20260421T191929
CREATED:20250714T194501Z
LAST-MODIFIED:20251106T210033Z
UID:4191-1780561800-1780561800@hawthornschool.com
SUMMARY:Volunteer Appreciation Breakfast
DESCRIPTION:
URL:https://hawthornschool.com/event/volunteer-appreciation-breakfast-2/
CATEGORIES:Parents,Spring Events
END:VEVENT
BEGIN:VEVENT
DTSTART;TZID=America/Toronto:20260603T190000
DTEND;TZID=America/Toronto:20260603T190000
DTSTAMP:20260421T191929
CREATED:20250714T194422Z
LAST-MODIFIED:20251106T210038Z
UID:4189-1780513200-1780513200@hawthornschool.com
SUMMARY:Dad's Night Out
DESCRIPTION:
URL:https://hawthornschool.com/event/dads-night-out-14/
CATEGORIES:Parents,Spring Events
END:VEVENT
BEGIN:VEVENT
DTSTART;TZID=America/Toronto:20260603T114500
DTEND;TZID=America/Toronto:20260603T114500
DTSTAMP:20260421T191929
CREATED:20250714T194346Z
LAST-MODIFIED:20250714T194346Z
UID:4187-1780487100-1780487100@hawthornschool.com
SUMMARY:First Communion & Confirmation Celebration : Holy Mass
DESCRIPTION:
URL:https://hawthornschool.com/event/first-communion-confirmation-celebration-holy-mass-2/
END:VEVENT
BEGIN:VEVENT
DTSTART;TZID=America/Toronto:20260528T190000
DTEND;TZID=America/Toronto:20260528T190000
DTSTAMP:20260421T191929
CREATED:20250714T194238Z
LAST-MODIFIED:20251106T210043Z
UID:4185-1779994800-1779994800@hawthornschool.com
SUMMARY:Mom's Night Out
DESCRIPTION:
URL:https://hawthornschool.com/event/moms-night-out-4/
CATEGORIES:Parents,Spring Events
END:VEVENT
BEGIN:VEVENT
DTSTART;TZID=America/Toronto:20260526T163000
DTEND;TZID=America/Toronto:20260526T163000
DTSTAMP:20260421T191929
CREATED:20250714T194147Z
LAST-MODIFIED:20250714T194147Z
UID:4183-1779813000-1779813000@hawthornschool.com
SUMMARY:Athletics Banquet
DESCRIPTION:
URL:https://hawthornschool.com/event/athletics-banquet-2/
END:VEVENT
BEGIN:VEVENT
DTSTART;TZID=America/Toronto:20260522T083000
DTEND;TZID=America/Toronto:20260522T083000
DTSTAMP:20260421T191929
CREATED:20250714T194111Z
LAST-MODIFIED:20250714T194111Z
UID:4181-1779438600-1779438600@hawthornschool.com
SUMMARY:US Fun Day
DESCRIPTION:
URL:https://hawthornschool.com/event/us-fun-day-2/
END:VEVENT
BEGIN:VEVENT
DTSTART;TZID=America/Toronto:20260522T083000
DTEND;TZID=America/Toronto:20260522T083000
DTSTAMP:20260421T191929
CREATED:20250714T193804Z
LAST-MODIFIED:20250714T193804Z
UID:4173-1779438600-1779438600@hawthornschool.com
SUMMARY:All-School Arts Week
DESCRIPTION:
URL:https://hawthornschool.com/event/all-school-arts-week-8/
END:VEVENT
BEGIN:VEVENT
DTSTART;TZID=America/Toronto:20260521T180000
DTEND;TZID=America/Toronto:20260521T180000
DTSTAMP:20260421T191929
CREATED:20250714T194004Z
LAST-MODIFIED:20251106T205704Z
UID:4177-1779386400-1779386400@hawthornschool.com
SUMMARY:All-School Arts Night
DESCRIPTION:Time TBC
URL:https://hawthornschool.com/event/all-school-arts-night-2/
CATEGORIES:Parents,Spring Events
END:VEVENT
BEGIN:VEVENT
DTSTART;TZID=America/Toronto:20260521T170000
DTEND;TZID=America/Toronto:20260521T170000
DTSTAMP:20260421T191929
CREATED:20250714T194031Z
LAST-MODIFIED:20250714T194031Z
UID:4179-1779382800-1779382800@hawthornschool.com
SUMMARY:Open House
DESCRIPTION:
URL:https://hawthornschool.com/event/open-house-6/
END:VEVENT
BEGIN:VEVENT
DTSTART;TZID=America/Toronto:20260521T083000
DTEND;TZID=America/Toronto:20260521T083000
DTSTAMP:20260421T191929
CREATED:20250714T193914Z
LAST-MODIFIED:20251022T143149Z
UID:4175-1779352200-1779352200@hawthornschool.com
SUMMARY:#1 Dress Day : All-School Arts Night & Open House
DESCRIPTION:Register below:\n \nThursday\, May 21\, 2026
URL:https://hawthornschool.com/event/1-dress-day-all-school-arts-night-open-house/
END:VEVENT
BEGIN:VEVENT
DTSTART;TZID=America/Toronto:20260521T083000
DTEND;TZID=America/Toronto:20260521T083000
DTSTAMP:20260421T191929
CREATED:20250714T193735Z
LAST-MODIFIED:20250714T193735Z
UID:4171-1779352200-1779352200@hawthornschool.com
SUMMARY:All-School Arts Week
DESCRIPTION:
URL:https://hawthornschool.com/event/all-school-arts-week-7/
END:VEVENT
BEGIN:VEVENT
DTSTART;TZID=America/Toronto:20260520T170000
DTEND;TZID=America/Toronto:20260520T170000
DTSTAMP:20260421T191929
CREATED:20250714T193429Z
LAST-MODIFIED:20260325T200246Z
UID:4161-1779296400-1779296400@hawthornschool.com
SUMMARY:Grade 12 Master Discourse Project Presentations *new date*
DESCRIPTION:
URL:https://hawthornschool.com/event/grade-12-master-discourse-project-presentations-2/
CATEGORIES:Parents,Spring Events
END:VEVENT
BEGIN:VEVENT
DTSTART;TZID=America/Toronto:20260520T083000
DTEND;TZID=America/Toronto:20260520T083000
DTSTAMP:20260421T191929
CREATED:20250714T193703Z
LAST-MODIFIED:20250714T193703Z
UID:4169-1779265800-1779265800@hawthornschool.com
SUMMARY:All-School Arts Week
DESCRIPTION:
URL:https://hawthornschool.com/event/all-school-arts-week-6/
END:VEVENT
BEGIN:VEVENT
DTSTART;TZID=America/Toronto:20260519T083000
DTEND;TZID=America/Toronto:20260519T083000
DTSTAMP:20260421T191929
CREATED:20250714T193628Z
LAST-MODIFIED:20250714T193628Z
UID:4167-1779179400-1779179400@hawthornschool.com
SUMMARY:All-School Arts Week
DESCRIPTION:
URL:https://hawthornschool.com/event/all-school-arts-week-5/
END:VEVENT
BEGIN:VEVENT
DTSTART;TZID=America/Toronto:20260518T083000
DTEND;TZID=America/Toronto:20260518T083000
DTSTAMP:20260421T191929
CREATED:20250714T193542Z
LAST-MODIFIED:20250714T193542Z
UID:4165-1779093000-1779093000@hawthornschool.com
SUMMARY:Victoria Day - no school
DESCRIPTION:
URL:https://hawthornschool.com/event/victoria-day-no-school-2/
END:VEVENT
BEGIN:VEVENT
DTSTART;TZID=America/Toronto:20260515T083000
DTEND;TZID=America/Toronto:20260515T083000
DTSTAMP:20260421T191929
CREATED:20250714T193512Z
LAST-MODIFIED:20250714T193512Z
UID:4163-1778833800-1778833800@hawthornschool.com
SUMMARY:Faculty Development - no school
DESCRIPTION:
URL:https://hawthornschool.com/event/faculty-development-no-school-12/
END:VEVENT
BEGIN:VEVENT
DTSTART;TZID=America/Toronto:20260508T140000
DTEND;TZID=America/Toronto:20260508T140000
DTSTAMP:20260421T191929
CREATED:20250714T193345Z
LAST-MODIFIED:20251106T205727Z
UID:4159-1778248800-1778248800@hawthornschool.com
SUMMARY:Daycare/Junior School Mother's Day Tea
DESCRIPTION:
URL:https://hawthornschool.com/event/daycare-junior-school-mothers-day-tea-2/
CATEGORIES:Parents,Spring Events
END:VEVENT
BEGIN:VEVENT
DTSTART;TZID=America/Toronto:20260508T083000
DTEND;TZID=America/Toronto:20260508T083000
DTSTAMP:20260421T191929
CREATED:20250714T192622Z
LAST-MODIFIED:20250714T192622Z
UID:4148-1778229000-1778229000@hawthornschool.com
SUMMARY:Mothers and Babies Generosity Project
DESCRIPTION:
URL:https://hawthornschool.com/event/mothers-and-babies-generosity-project-10/
END:VEVENT
BEGIN:VEVENT
DTSTART;TZID=America/Toronto:20260507T083000
DTEND;TZID=America/Toronto:20260507T083000
DTSTAMP:20260421T191929
CREATED:20250714T192554Z
LAST-MODIFIED:20250714T192554Z
UID:4146-1778142600-1778142600@hawthornschool.com
SUMMARY:Mothers and Babies Generosity Project
DESCRIPTION:
URL:https://hawthornschool.com/event/mothers-and-babies-generosity-project-9/
END:VEVENT
END:VCALENDAR