BEGIN:VCALENDAR
VERSION:2.0
PRODID:-//Hawthorn School - ECPv6.15.20//NONSGML v1.0//EN
CALSCALE:GREGORIAN
METHOD:PUBLISH
X-WR-CALNAME:Hawthorn School
X-ORIGINAL-URL:https://hawthornschool.com
X-WR-CALDESC:Events for Hawthorn School
REFRESH-INTERVAL;VALUE=DURATION:PT1H
X-Robots-Tag:noindex
X-PUBLISHED-TTL:PT1H
BEGIN:VTIMEZONE
TZID:America/Toronto
BEGIN:DAYLIGHT
TZOFFSETFROM:-0500
TZOFFSETTO:-0400
TZNAME:EDT
DTSTART:20250309T070000
END:DAYLIGHT
BEGIN:STANDARD
TZOFFSETFROM:-0400
TZOFFSETTO:-0500
TZNAME:EST
DTSTART:20251102T060000
END:STANDARD
BEGIN:DAYLIGHT
TZOFFSETFROM:-0500
TZOFFSETTO:-0400
TZNAME:EDT
DTSTART:20260308T070000
END:DAYLIGHT
BEGIN:STANDARD
TZOFFSETFROM:-0400
TZOFFSETTO:-0500
TZNAME:EST
DTSTART:20261101T060000
END:STANDARD
BEGIN:DAYLIGHT
TZOFFSETFROM:-0500
TZOFFSETTO:-0400
TZNAME:EDT
DTSTART:20270314T070000
END:DAYLIGHT
BEGIN:STANDARD
TZOFFSETFROM:-0400
TZOFFSETTO:-0500
TZNAME:EST
DTSTART:20271107T060000
END:STANDARD
END:VTIMEZONE
BEGIN:VEVENT
DTSTART;TZID=America/Toronto:20260330T151500
DTEND;TZID=America/Toronto:20260330T154500
DTSTAMP:20260421T160012
CREATED:20260304T154800Z
LAST-MODIFIED:20260304T164136Z
UID:5173-1774883700-1774885500@hawthornschool.com
SUMMARY:LS co-curriculars
DESCRIPTION:Dismissal at 3:45 p.m.
URL:https://hawthornschool.com/event/ls-co-curriculars-dismissal/
END:VEVENT
BEGIN:VEVENT
DTSTART;TZID=America/Toronto:20260330T153000
DTEND;TZID=America/Toronto:20260330T190000
DTSTAMP:20260421T160012
CREATED:20260304T154231Z
LAST-MODIFIED:20260304T154532Z
UID:5169-1774884600-1774897200@hawthornschool.com
SUMMARY:US Play practice
DESCRIPTION:cast & crew
URL:https://hawthornschool.com/event/hawthorn-summer-camp-early-bird-pricing-ends/
END:VEVENT
BEGIN:VEVENT
DTSTART;TZID=America/Toronto:20260401T083000
DTEND;TZID=America/Toronto:20260401T203000
DTSTAMP:20260421T160012
CREATED:20260401T133518Z
LAST-MODIFIED:20260401T133518Z
UID:5279-1775032200-1775075400@hawthornschool.com
SUMMARY:US Track & Field Meet @ York University
DESCRIPTION:
URL:https://hawthornschool.com/event/us-track-field-meet-york-university/
END:VEVENT
BEGIN:VEVENT
DTSTART;TZID=America/Toronto:20260401T101000
DTEND;TZID=America/Toronto:20260401T114500
DTSTAMP:20260421T160012
CREATED:20260401T133716Z
LAST-MODIFIED:20260401T133716Z
UID:5284-1775038200-1775043900@hawthornschool.com
SUMMARY:Gr. 11 Toastmasters Session #8
DESCRIPTION:
URL:https://hawthornschool.com/event/gr-11-toastmasters-session-8/
END:VEVENT
BEGIN:VEVENT
DTSTART;TZID=America/Toronto:20260401T124500
DTEND;TZID=America/Toronto:20260401T144000
DTSTAMP:20260421T160012
CREATED:20260401T134703Z
LAST-MODIFIED:20260401T134703Z
UID:5292-1775047500-1775054400@hawthornschool.com
SUMMARY:US Gr. 11-12 Sandwich Sister Activity
DESCRIPTION:
URL:https://hawthornschool.com/event/us-gr-11-12-sandwich-sister-activity-2/
END:VEVENT
BEGIN:VEVENT
DTSTART;TZID=America/Toronto:20260401T153000
DTEND;TZID=America/Toronto:20260401T173000
DTSTAMP:20260421T160012
CREATED:20260401T134245Z
LAST-MODIFIED:20260401T134245Z
UID:5288-1775057400-1775064600@hawthornschool.com
SUMMARY:Gr. 3-5 Vela Club
DESCRIPTION:
URL:https://hawthornschool.com/event/gr-3-5-vela-club-2/
END:VEVENT
BEGIN:VEVENT
DTSTART;TZID=America/Toronto:20260401T153500
DTEND;TZID=America/Toronto:20260401T164500
DTSTAMP:20260421T160012
CREATED:20260401T134400Z
LAST-MODIFIED:20260401T134400Z
UID:5290-1775057700-1775061900@hawthornschool.com
SUMMARY:LS Track & Field practice
DESCRIPTION:
URL:https://hawthornschool.com/event/ls-track-field-practice/
END:VEVENT
BEGIN:VEVENT
DTSTART;TZID=America/Toronto:20260401T190000
DTEND;TZID=America/Toronto:20260401T190000
DTSTAMP:20260421T160012
CREATED:20250714T191126Z
LAST-MODIFIED:20251106T205634Z
UID:4109-1775070000-1775070000@hawthornschool.com
SUMMARY:Dad's Night Out
DESCRIPTION:
URL:https://hawthornschool.com/event/dads-night-out-12/
CATEGORIES:Parents,Spring Events
END:VEVENT
BEGIN:VEVENT
DTSTART;TZID=America/Toronto:20260402T000000
DTEND;TZID=America/Toronto:20260402T235959
DTSTAMP:20260421T160012
CREATED:20260401T141715Z
LAST-MODIFIED:20260401T142627Z
UID:5316-1775088000-1775174399@hawthornschool.com
SUMMARY:JS/LS Report Cards sent home
DESCRIPTION:
URL:https://hawthornschool.com/event/js-ls-report-cards-sent-home/
END:VEVENT
BEGIN:VEVENT
DTSTART;TZID=America/Toronto:20260402T140000
DTEND;TZID=America/Toronto:20260402T140000
DTSTAMP:20260421T160012
CREATED:20250714T191234Z
LAST-MODIFIED:20260401T140551Z
UID:4111-1775138400-1775138400@hawthornschool.com
SUMMARY:Holy Thursday - Early Dismissal (no after school program)
DESCRIPTION:
URL:https://hawthornschool.com/event/holy-thursday-early-dismissal-no-after-school-program/
END:VEVENT
BEGIN:VEVENT
DTSTART;TZID=America/Toronto:20260403T083000
DTEND;TZID=America/Toronto:20260403T083000
DTSTAMP:20260421T160012
CREATED:20250714T191315Z
LAST-MODIFIED:20260401T133001Z
UID:4113-1775205000-1775205000@hawthornschool.com
SUMMARY:Good Friday - no school
DESCRIPTION:(Daycare Closed)
URL:https://hawthornschool.com/event/good-friday/
END:VEVENT
BEGIN:VEVENT
DTSTART;TZID=America/Toronto:20260406T083000
DTEND;TZID=America/Toronto:20260406T083000
DTSTAMP:20260421T160012
CREATED:20250714T191400Z
LAST-MODIFIED:20260401T133142Z
UID:4116-1775464200-1775464200@hawthornschool.com
SUMMARY:Easter Monday - no school
DESCRIPTION:(Daycare Closed)
URL:https://hawthornschool.com/event/easter-monday-no-school-2/
END:VEVENT
BEGIN:VEVENT
DTSTART;TZID=America/Toronto:20260407T000000
DTEND;TZID=America/Toronto:20260407T000000
DTSTAMP:20260421T160012
CREATED:20260401T135109Z
LAST-MODIFIED:20260401T135109Z
UID:5294-1775520000-1775520000@hawthornschool.com
SUMMARY:US Easter Activity (Extended lunch)
DESCRIPTION:
URL:https://hawthornschool.com/event/us-easter-activity-extended-lunch/
END:VEVENT
BEGIN:VEVENT
DTSTART;TZID=America/Toronto:20260407T153000
DTEND;TZID=America/Toronto:20260407T190000
DTSTAMP:20260421T160012
CREATED:20260401T135255Z
LAST-MODIFIED:20260401T135255Z
UID:5296-1775575800-1775588400@hawthornschool.com
SUMMARY:US Play Practice (Cast & Crew)
DESCRIPTION:
URL:https://hawthornschool.com/event/us-play-practice-cast-crew/
END:VEVENT
BEGIN:VEVENT
DTSTART;TZID=America/Toronto:20260407T153500
DTEND;TZID=America/Toronto:20260407T164500
DTSTAMP:20260421T160012
CREATED:20260401T135418Z
LAST-MODIFIED:20260401T135418Z
UID:5298-1775576100-1775580300@hawthornschool.com
SUMMARY:US Track & Field Practice
DESCRIPTION:
URL:https://hawthornschool.com/event/us-track-field-practice/
END:VEVENT
BEGIN:VEVENT
DTSTART;TZID=America/Toronto:20260408T153000
DTEND;TZID=America/Toronto:20260408T190000
DTSTAMP:20260421T160012
CREATED:20260401T135524Z
LAST-MODIFIED:20260401T135524Z
UID:5300-1775662200-1775674800@hawthornschool.com
SUMMARY:US Play Practice (Cast & Crew)
DESCRIPTION:
URL:https://hawthornschool.com/event/us-play-practice-cast-crew-2/
END:VEVENT
BEGIN:VEVENT
DTSTART;TZID=America/Toronto:20260408T153500
DTEND;TZID=America/Toronto:20260408T164500
DTSTAMP:20260421T160012
CREATED:20260401T135630Z
LAST-MODIFIED:20260401T135630Z
UID:5302-1775662500-1775666700@hawthornschool.com
SUMMARY:LS Track & Field Practice
DESCRIPTION:
URL:https://hawthornschool.com/event/ls-track-field-practice-2/
END:VEVENT
BEGIN:VEVENT
DTSTART;TZID=America/Toronto:20260409T153500
DTEND;TZID=America/Toronto:20260409T164500
DTSTAMP:20260421T160012
CREATED:20260401T135729Z
LAST-MODIFIED:20260401T135729Z
UID:5304-1775748900-1775753100@hawthornschool.com
SUMMARY:US Track & Field Practice
DESCRIPTION:
URL:https://hawthornschool.com/event/us-track-field-practice-2/
END:VEVENT
BEGIN:VEVENT
DTSTART;TZID=America/Toronto:20260409T160000
DTEND;TZID=America/Toronto:20260409T200000
DTSTAMP:20260421T160012
CREATED:20250714T191451Z
LAST-MODIFIED:20251106T205622Z
UID:4118-1775750400-1775764800@hawthornschool.com
SUMMARY:JS & LS Parent/Mentor/Teacher Interviews
DESCRIPTION:
URL:https://hawthornschool.com/event/js-ls-parent-mentor-teacher-interviews-2/
CATEGORIES:Parents,Spring Events
END:VEVENT
BEGIN:VEVENT
DTSTART;TZID=America/Toronto:20260409T190000
DTEND;TZID=America/Toronto:20260409T190000
DTSTAMP:20260421T160012
CREATED:20250714T192309Z
LAST-MODIFIED:20260327T184842Z
UID:4136-1775761200-1775761200@hawthornschool.com
SUMMARY:US Play
DESCRIPTION:Opening Night! \nCLICK HERE TO BUY TICKETS
URL:https://hawthornschool.com/event/us-play/
CATEGORIES:Parents,Spring Events
END:VEVENT
BEGIN:VEVENT
DTSTART;TZID=America/Toronto:20260410T190000
DTEND;TZID=America/Toronto:20260410T190000
DTSTAMP:20260421T160012
CREATED:20250714T192336Z
LAST-MODIFIED:20260327T185035Z
UID:4138-1775847600-1775847600@hawthornschool.com
SUMMARY:US Play
DESCRIPTION:CLICK HERE TO BUY TICKETS
URL:https://hawthornschool.com/event/us-play-2/
CATEGORIES:Parents,Spring Events
END:VEVENT
BEGIN:VEVENT
DTSTART;TZID=America/Toronto:20260411T140000
DTEND;TZID=America/Toronto:20260411T140000
DTSTAMP:20260421T160012
CREATED:20250905T195513Z
LAST-MODIFIED:20260327T185143Z
UID:4355-1775916000-1775916000@hawthornschool.com
SUMMARY:US Play
DESCRIPTION:CLICK HERE TO BUY TICKETS
URL:https://hawthornschool.com/event/us-play-3/
CATEGORIES:Parents,Spring Events
END:VEVENT
BEGIN:VEVENT
DTSTART;TZID=America/Toronto:20260413T000000
DTEND;TZID=America/Toronto:20260413T000000
DTSTAMP:20260421T160012
CREATED:20260401T141105Z
LAST-MODIFIED:20260401T141105Z
UID:5310-1776038400-1776038400@hawthornschool.com
SUMMARY:LS co-curriculars dismissal at 3:45 p.m.
DESCRIPTION:
URL:https://hawthornschool.com/event/ls-co-curriculars-dismissal-at-345-p-m/
END:VEVENT
BEGIN:VEVENT
DTSTART;TZID=America/Toronto:20260413T154500
DTEND;TZID=America/Toronto:20260413T164500
DTSTAMP:20260421T160012
CREATED:20260401T141307Z
LAST-MODIFIED:20260401T141307Z
UID:5312-1776095100-1776098700@hawthornschool.com
SUMMARY:LS Track & Field practice
DESCRIPTION:
URL:https://hawthornschool.com/event/ls-track-field-practice-3/
END:VEVENT
BEGIN:VEVENT
DTSTART;TZID=America/Toronto:20260414T153500
DTEND;TZID=America/Toronto:20260414T164500
DTSTAMP:20260421T160012
CREATED:20260401T141446Z
LAST-MODIFIED:20260401T141446Z
UID:5314-1776180900-1776185100@hawthornschool.com
SUMMARY:US Track & Field Practice
DESCRIPTION:
URL:https://hawthornschool.com/event/us-track-field-practice-3/
END:VEVENT
BEGIN:VEVENT
DTSTART;TZID=America/Toronto:20260415T033500
DTEND;TZID=America/Toronto:20260415T164500
DTSTAMP:20260421T160012
CREATED:20260401T142104Z
LAST-MODIFIED:20260401T142104Z
UID:5321-1776224100-1776271500@hawthornschool.com
SUMMARY:LS Track & Field Practice
DESCRIPTION:
URL:https://hawthornschool.com/event/ls-track-field-practice-4/
END:VEVENT
BEGIN:VEVENT
DTSTART;TZID=America/Toronto:20260415T153000
DTEND;TZID=America/Toronto:20260415T173000
DTSTAMP:20260421T160012
CREATED:20260401T141945Z
LAST-MODIFIED:20260401T141945Z
UID:5319-1776267000-1776274200@hawthornschool.com
SUMMARY:Gr. 3-5  Vela Club
DESCRIPTION:
URL:https://hawthornschool.com/event/gr-3-5-vela-club-3/
END:VEVENT
BEGIN:VEVENT
DTSTART;TZID=America/Toronto:20260415T154000
DTEND;TZID=America/Toronto:20260415T164500
DTSTAMP:20260421T160012
CREATED:20260401T142519Z
LAST-MODIFIED:20260401T142519Z
UID:5323-1776267600-1776271500@hawthornschool.com
SUMMARY:US Badminton Practice
DESCRIPTION:
URL:https://hawthornschool.com/event/us-badminton-practice-2/
END:VEVENT
BEGIN:VEVENT
DTSTART;TZID=America/Toronto:20260416T083000
DTEND;TZID=America/Toronto:20260416T083000
DTSTAMP:20260421T160012
CREATED:20250714T191525Z
LAST-MODIFIED:20250714T191525Z
UID:4120-1776328200-1776328200@hawthornschool.com
SUMMARY:CISMF Rehearsal
DESCRIPTION:
URL:https://hawthornschool.com/event/cismf-rehearsal-5/
END:VEVENT
BEGIN:VEVENT
DTSTART;TZID=America/Toronto:20260416T153500
DTEND;TZID=America/Toronto:20260416T164500
DTSTAMP:20260421T160012
CREATED:20260401T144824Z
LAST-MODIFIED:20260401T144824Z
UID:5337-1776353700-1776357900@hawthornschool.com
SUMMARY:US Track & Field Practice
DESCRIPTION:
URL:https://hawthornschool.com/event/us-track-field-practice-4/
END:VEVENT
END:VCALENDAR