BEGIN:VCALENDAR
VERSION:2.0
PRODID:-//Hawthorn School - ECPv6.15.20//NONSGML v1.0//EN
CALSCALE:GREGORIAN
METHOD:PUBLISH
X-WR-CALNAME:Hawthorn School
X-ORIGINAL-URL:https://hawthornschool.com
X-WR-CALDESC:Events for Hawthorn School
REFRESH-INTERVAL;VALUE=DURATION:PT1H
X-Robots-Tag:noindex
X-PUBLISHED-TTL:PT1H
BEGIN:VTIMEZONE
TZID:America/Toronto
BEGIN:DAYLIGHT
TZOFFSETFROM:-0500
TZOFFSETTO:-0400
TZNAME:EDT
DTSTART:20240310T070000
END:DAYLIGHT
BEGIN:STANDARD
TZOFFSETFROM:-0400
TZOFFSETTO:-0500
TZNAME:EST
DTSTART:20241103T060000
END:STANDARD
BEGIN:DAYLIGHT
TZOFFSETFROM:-0500
TZOFFSETTO:-0400
TZNAME:EDT
DTSTART:20250309T070000
END:DAYLIGHT
BEGIN:STANDARD
TZOFFSETFROM:-0400
TZOFFSETTO:-0500
TZNAME:EST
DTSTART:20251102T060000
END:STANDARD
BEGIN:DAYLIGHT
TZOFFSETFROM:-0500
TZOFFSETTO:-0400
TZNAME:EDT
DTSTART:20260308T070000
END:DAYLIGHT
BEGIN:STANDARD
TZOFFSETFROM:-0400
TZOFFSETTO:-0500
TZNAME:EST
DTSTART:20261101T060000
END:STANDARD
END:VTIMEZONE
BEGIN:VEVENT
DTSTART;TZID=America/Toronto:20251120T190000
DTEND;TZID=America/Toronto:20251120T190000
DTSTAMP:20260424T054117
CREATED:20250714T154321Z
LAST-MODIFIED:20251106T204648Z
UID:3956-1763665200-1763665200@hawthornschool.com
SUMMARY:US Preview Night
DESCRIPTION:
URL:https://hawthornschool.com/event/us-information-night-2/
CATEGORIES:Fall Events,Parents
END:VEVENT
BEGIN:VEVENT
DTSTART;TZID=America/Toronto:20251120T160000
DTEND;TZID=America/Toronto:20251120T200000
DTSTAMP:20260424T054117
CREATED:20250714T154248Z
LAST-MODIFIED:20251106T204624Z
UID:3954-1763654400-1763668800@hawthornschool.com
SUMMARY:JS\, LS\, & US Parent/Mentor/Teacher Interviews
DESCRIPTION:
URL:https://hawthornschool.com/event/js-ls-us-parent-mentor-teacher-interviews/
CATEGORIES:Fall Events,Parents
END:VEVENT
BEGIN:VEVENT
DTSTART;TZID=America/Toronto:20251120T142000
DTEND;TZID=America/Toronto:20251120T150000
DTSTAMP:20260424T054117
CREATED:20250714T154156Z
LAST-MODIFIED:20251117T142753Z
UID:3952-1763648400-1763650800@hawthornschool.com
SUMMARY:All-School Assembly
DESCRIPTION:
URL:https://hawthornschool.com/event/all-school-assembly-2/
CATEGORIES:Fall Events,Parents
END:VEVENT
BEGIN:VEVENT
DTSTART;TZID=America/Toronto:20251120T083000
DTEND;TZID=America/Toronto:20251120T083000
DTSTAMP:20260424T054117
CREATED:20251117T142704Z
LAST-MODIFIED:20251117T142704Z
UID:4720-1763627400-1763627400@hawthornschool.com
SUMMARY:All-School Photo
DESCRIPTION:
URL:https://hawthornschool.com/event/all-school-photo/
END:VEVENT
BEGIN:VEVENT
DTSTART;TZID=America/Toronto:20251120T083000
DTEND;TZID=America/Toronto:20251120T083000
DTSTAMP:20260424T054117
CREATED:20250714T154115Z
LAST-MODIFIED:20250714T154115Z
UID:3950-1763627400-1763627400@hawthornschool.com
SUMMARY:#1 Dress Day
DESCRIPTION:
URL:https://hawthornschool.com/event/1-dress-day-10/
END:VEVENT
BEGIN:VEVENT
DTSTART;TZID=America/Toronto:20251119T101000
DTEND;TZID=America/Toronto:20251119T113000
DTSTAMP:20260424T054117
CREATED:20250801T163206Z
LAST-MODIFIED:20251106T204549Z
UID:4308-1763547000-1763551800@hawthornschool.com
SUMMARY:Recollection for Women
DESCRIPTION:
URL:https://hawthornschool.com/event/recollection-for-women-6/
CATEGORIES:Fall Events,Parents
END:VEVENT
BEGIN:VEVENT
DTSTART;TZID=America/Toronto:20251117T151500
DTEND;TZID=America/Toronto:20251117T154500
DTSTAMP:20260424T054117
CREATED:20250801T163010Z
LAST-MODIFIED:20250801T163010Z
UID:4304-1763392500-1763394300@hawthornschool.com
SUMMARY:LS Co-curriculars
DESCRIPTION:
URL:https://hawthornschool.com/event/ls-co-curriculars-7/
END:VEVENT
BEGIN:VEVENT
DTSTART;TZID=America/Toronto:20251114T152000
DTEND;TZID=America/Toronto:20251114T152000
DTSTAMP:20260424T054117
CREATED:20250801T162848Z
LAST-MODIFIED:20250801T162848Z
UID:4302-1763133600-1763133600@hawthornschool.com
SUMMARY:JS/LS/US Report Cards sent home
DESCRIPTION:
URL:https://hawthornschool.com/event/js-ls-us-report-cards-sent-home/
END:VEVENT
BEGIN:VEVENT
DTSTART;TZID=America/Toronto:20251114T083000
DTEND;TZID=America/Toronto:20251114T152000
DTSTAMP:20260424T054117
CREATED:20250801T162747Z
LAST-MODIFIED:20251022T141817Z
UID:4300-1763109000-1763133600@hawthornschool.com
SUMMARY:Bee at Hawthorn Day
DESCRIPTION:Register below:\n \nFriday\, November 14\, 2025\nhttps://forms.gle/v91YfGP5NtN9spGB9 \n  \nFuture Bee at Hawthorn Day: \nFriday\, January 16\, 2026\nhttps://forms.gle/evdF7vBaQvpif2Z77  \n  \nRegister for the next Open House below: \n\nMonday\, December 8\, 2025 \nThursday\, January 29\, 2026 \nThursday\, May 21\, 2026
URL:https://hawthornschool.com/event/bee-at-hawthorn-day/
END:VEVENT
BEGIN:VEVENT
DTSTART;TZID=America/Toronto:20251114T083000
DTEND;TZID=America/Toronto:20251114T083000
DTSTAMP:20260424T054117
CREATED:20250714T154029Z
LAST-MODIFIED:20250714T154029Z
UID:3948-1763109000-1763109000@hawthornschool.com
SUMMARY:#1 Dress Day : Bee at Hawthorn Day
DESCRIPTION:
URL:https://hawthornschool.com/event/1-dress-day-bee-at-hawthorn-day-3/
END:VEVENT
BEGIN:VEVENT
DTSTART;TZID=America/Toronto:20251113T190000
DTEND;TZID=America/Toronto:20251113T200000
DTSTAMP:20260424T054117
CREATED:20250714T153944Z
LAST-MODIFIED:20251106T162600Z
UID:3946-1763060400-1763064000@hawthornschool.com
SUMMARY:Parents' Speaker Series
DESCRIPTION:Dear Parents and Friends\, \nWe invite you and your friends to join us for our Parent Speaker Series event: \nSafeguarding Childhood: A Parent’s Role Against Human Trafficking \nDate: Thursday\, November 13 \nTime: 7:00–8:00 p.m. \nLocation: Hawthorn School for Girls \nThis important session will demystify human trafficking and commercial sexual exploitation in Canada. You will gain insight into what human trafficking actually looks like\, who is most at risk\, and how families and schools can recognize red flags and respond safely. \nWhat Attendees Will Learn: \n\nReal-world examples relevant to youth in the Toronto area\nRisk factors and warning signs in peers or online interactions\nPractical applications for home and school that align with values of dignity and care\n\nPresenters: \n\nRichard Dunwoody\, Founder of Project Recover\, a self-funded non-profit supporting survivors of human trafficking. His advocacy was instrumental in the passing of the Debt Bondage Repair Act in the U.S.\nTwo survivors of human trafficking will also share their personal experiences virtually. One is a Canadian survivor who spent over fifteen years in multiple facets of the sex trade and now educates police agencies\, service providers\, schools\, and the hospitality industry on prevention and intervention.\n\nWe strongly encourage all parents and adults who deal with young people to attend this powerful and informative session. \nPlease REGISTER by filling out this form. \nRefreshments will be provided and childcare will be available. \nAdmission is complimentary but donations are always welcome. \nWe look forward to welcoming you to this important conversation.
URL:https://hawthornschool.com/event/parents-speaker-series-2/
CATEGORIES:Fall Events,Parents
END:VEVENT
BEGIN:VEVENT
DTSTART;TZID=America/Toronto:20251111T083000
DTEND;TZID=America/Toronto:20251111T083000
DTSTAMP:20260424T054117
CREATED:20250801T162613Z
LAST-MODIFIED:20251106T204454Z
UID:4298-1762849800-1762849800@hawthornschool.com
SUMMARY:Remembrance Day
DESCRIPTION:Commemoration to be held at 11:00 a.m.
URL:https://hawthornschool.com/event/remembrance-day/
END:VEVENT
BEGIN:VEVENT
DTSTART;TZID=America/Toronto:20251110T083000
DTEND;TZID=America/Toronto:20251110T083000
DTSTAMP:20260424T054117
CREATED:20250714T153901Z
LAST-MODIFIED:20250801T162533Z
UID:3944-1762763400-1762763400@hawthornschool.com
SUMMARY:Remembrance Day Holiday - no school
DESCRIPTION:Daycare Closed
URL:https://hawthornschool.com/event/remembrance-day-holiday-no-school/
END:VEVENT
BEGIN:VEVENT
DTSTART;TZID=America/Toronto:20251107T083000
DTEND;TZID=America/Toronto:20251107T083000
DTSTAMP:20260424T054117
CREATED:20250714T153814Z
LAST-MODIFIED:20250801T162455Z
UID:3942-1762504200-1762504200@hawthornschool.com
SUMMARY:Faculty Development - no school
DESCRIPTION:Daycare Open
URL:https://hawthornschool.com/event/faculty-development-no-school-9/
END:VEVENT
BEGIN:VEVENT
DTSTART;TZID=America/Toronto:20251106T083000
DTEND;TZID=America/Toronto:20251106T083000
DTSTAMP:20260424T054117
CREATED:20250801T162226Z
LAST-MODIFIED:20250801T162226Z
UID:4292-1762417800-1762417800@hawthornschool.com
SUMMARY:Curie's Anniversary (Curie House Shirt Day)
DESCRIPTION:
URL:https://hawthornschool.com/event/curies-anniversary-curie-house-shirt-day-2/
END:VEVENT
BEGIN:VEVENT
DTSTART;TZID=America/Toronto:20251105T190000
DTEND;TZID=America/Toronto:20251105T190000
DTSTAMP:20260424T054117
CREATED:20250714T153743Z
LAST-MODIFIED:20250714T153743Z
UID:3940-1762369200-1762369200@hawthornschool.com
SUMMARY:Dad's Night Out
DESCRIPTION:
URL:https://hawthornschool.com/event/dads-night-out-7/
END:VEVENT
BEGIN:VEVENT
DTSTART;TZID=America/Toronto:20251105T083000
DTEND;TZID=America/Toronto:20251105T083000
DTSTAMP:20260424T054117
CREATED:20250714T153705Z
LAST-MODIFIED:20250714T153705Z
UID:3938-1762331400-1762331400@hawthornschool.com
SUMMARY:Grade 9 Take Your Kid to Work Day
DESCRIPTION:
URL:https://hawthornschool.com/event/grade-9-take-your-kid-to-work-day/
END:VEVENT
BEGIN:VEVENT
DTSTART;TZID=America/Toronto:20251103T151500
DTEND;TZID=America/Toronto:20251103T154500
DTSTAMP:20260424T054117
CREATED:20250801T162129Z
LAST-MODIFIED:20250801T162129Z
UID:4290-1762182900-1762184700@hawthornschool.com
SUMMARY:LS Co-curriculars
DESCRIPTION:
URL:https://hawthornschool.com/event/ls-co-curriculars-6/
END:VEVENT
BEGIN:VEVENT
DTSTART;TZID=America/Toronto:20251103T150000
DTEND;TZID=America/Toronto:20251103T150000
DTSTAMP:20260424T054117
CREATED:20250801T162319Z
LAST-MODIFIED:20251106T203926Z
UID:4294-1762182000-1762182000@hawthornschool.com
SUMMARY:Parent Communication Meeting
DESCRIPTION:
URL:https://hawthornschool.com/event/parent-communication-meeting-2/
CATEGORIES:Fall Events,Parents
END:VEVENT
BEGIN:VEVENT
DTSTART;TZID=America/Toronto:20251102T083000
DTEND;TZID=America/Toronto:20251102T083000
DTSTAMP:20260424T054117
CREATED:20250801T161803Z
LAST-MODIFIED:20250801T161803Z
UID:4286-1762072200-1762072200@hawthornschool.com
SUMMARY:All Souls' Day
DESCRIPTION:
URL:https://hawthornschool.com/event/all-souls-day/
END:VEVENT
BEGIN:VEVENT
DTSTART;TZID=America/Toronto:20251102T020000
DTEND;TZID=America/Toronto:20251102T020000
DTSTAMP:20260424T054117
CREATED:20250801T162024Z
LAST-MODIFIED:20250801T162024Z
UID:4288-1762048800-1762048800@hawthornschool.com
SUMMARY:Day Light Saving Time
DESCRIPTION:
URL:https://hawthornschool.com/event/day-light-saving-time/
END:VEVENT
BEGIN:VEVENT
DTSTART;TZID=America/Toronto:20251031T130000
DTEND;TZID=America/Toronto:20251031T130000
DTSTAMP:20260424T054117
CREATED:20250801T155839Z
LAST-MODIFIED:20250801T155839Z
UID:4282-1761915600-1761915600@hawthornschool.com
SUMMARY:All Hallows' Eve - JS/LS/US Halloween Activities
DESCRIPTION:Time TBC
URL:https://hawthornschool.com/event/all-hallows-eve-js-ls-us-halloween-activities/
END:VEVENT
BEGIN:VEVENT
DTSTART;TZID=America/Toronto:20251031T121500
DTEND;TZID=America/Toronto:20251031T121500
DTSTAMP:20260424T054117
CREATED:20250801T155429Z
LAST-MODIFIED:20251022T142122Z
UID:4276-1761912900-1761912900@hawthornschool.com
SUMMARY:JS/LS Pizza Lunch
DESCRIPTION:
URL:https://hawthornschool.com/event/js-ls-pizza-lunch-4/
END:VEVENT
BEGIN:VEVENT
DTSTART;TZID=America/Toronto:20251031T083000
DTEND;TZID=America/Toronto:20251031T083000
DTSTAMP:20260424T054117
CREATED:20250801T155515Z
LAST-MODIFIED:20251022T142103Z
UID:4278-1761899400-1761899400@hawthornschool.com
SUMMARY:All-School Jeans Day
DESCRIPTION:
URL:https://hawthornschool.com/event/all-school-jeans-day-2/
END:VEVENT
BEGIN:VEVENT
DTSTART;TZID=America/Toronto:20251027T151500
DTEND;TZID=America/Toronto:20251027T154500
DTSTAMP:20260424T054117
CREATED:20250801T155608Z
LAST-MODIFIED:20250801T161023Z
UID:4280-1761578100-1761579900@hawthornschool.com
SUMMARY:LS Co-curriculars
DESCRIPTION:
URL:https://hawthornschool.com/event/ls-co-curriculars-5/
END:VEVENT
BEGIN:VEVENT
DTSTART;TZID=America/Toronto:20251024T083000
DTEND;TZID=America/Toronto:20251024T083000
DTSTAMP:20260424T054117
CREATED:20250714T153458Z
LAST-MODIFIED:20250714T153458Z
UID:3936-1761294600-1761294600@hawthornschool.com
SUMMARY:Cafe Ole
DESCRIPTION:
URL:https://hawthornschool.com/event/cafe-ole-5/
END:VEVENT
BEGIN:VEVENT
DTSTART;TZID=America/Toronto:20251023T083000
DTEND;TZID=America/Toronto:20251023T083000
DTSTAMP:20260424T054117
CREATED:20250714T152540Z
LAST-MODIFIED:20251022T142019Z
UID:3933-1761208200-1761208200@hawthornschool.com
SUMMARY:#1 Dress Day : Picture Retake Day + Grad Photos
DESCRIPTION:
URL:https://hawthornschool.com/event/1-dress-day-picture-retake-day-grad-all-school-photo/
END:VEVENT
BEGIN:VEVENT
DTSTART;TZID=America/Toronto:20251022T140000
DTEND;TZID=America/Toronto:20251022T140000
DTSTAMP:20260424T054117
CREATED:20250714T152359Z
LAST-MODIFIED:20250714T152359Z
UID:3931-1761141600-1761141600@hawthornschool.com
SUMMARY:Grandparents' Celebration
DESCRIPTION:
URL:https://hawthornschool.com/event/grandparents-celebration-2/
END:VEVENT
BEGIN:VEVENT
DTSTART;TZID=America/Toronto:20251022T101000
DTEND;TZID=America/Toronto:20251022T113000
DTSTAMP:20260424T054117
CREATED:20250801T155338Z
LAST-MODIFIED:20250801T155338Z
UID:4274-1761127800-1761132600@hawthornschool.com
SUMMARY:Recollection for Women
DESCRIPTION:
URL:https://hawthornschool.com/event/recollection-for-women-5/
END:VEVENT
BEGIN:VEVENT
DTSTART;TZID=America/Toronto:20251020T151500
DTEND;TZID=America/Toronto:20251020T154500
DTSTAMP:20260424T054117
CREATED:20250801T155253Z
LAST-MODIFIED:20250801T161159Z
UID:4272-1760973300-1760975100@hawthornschool.com
SUMMARY:LS-Co-curriculars
DESCRIPTION:
URL:https://hawthornschool.com/event/ls-co-curriculars-4/
END:VEVENT
END:VCALENDAR