BEGIN:VCALENDAR
VERSION:2.0
PRODID:-//Hawthorn School - ECPv6.15.20//NONSGML v1.0//EN
CALSCALE:GREGORIAN
METHOD:PUBLISH
X-WR-CALNAME:Hawthorn School
X-ORIGINAL-URL:https://hawthornschool.com
X-WR-CALDESC:Events for Hawthorn School
REFRESH-INTERVAL;VALUE=DURATION:PT1H
X-Robots-Tag:noindex
X-PUBLISHED-TTL:PT1H
BEGIN:VTIMEZONE
TZID:America/Toronto
BEGIN:DAYLIGHT
TZOFFSETFROM:-0500
TZOFFSETTO:-0400
TZNAME:EDT
DTSTART:20250309T070000
END:DAYLIGHT
BEGIN:STANDARD
TZOFFSETFROM:-0400
TZOFFSETTO:-0500
TZNAME:EST
DTSTART:20251102T060000
END:STANDARD
BEGIN:DAYLIGHT
TZOFFSETFROM:-0500
TZOFFSETTO:-0400
TZNAME:EDT
DTSTART:20260308T070000
END:DAYLIGHT
BEGIN:STANDARD
TZOFFSETFROM:-0400
TZOFFSETTO:-0500
TZNAME:EST
DTSTART:20261101T060000
END:STANDARD
BEGIN:DAYLIGHT
TZOFFSETFROM:-0500
TZOFFSETTO:-0400
TZNAME:EDT
DTSTART:20270314T070000
END:DAYLIGHT
BEGIN:STANDARD
TZOFFSETFROM:-0400
TZOFFSETTO:-0500
TZNAME:EST
DTSTART:20271107T060000
END:STANDARD
END:VTIMEZONE
BEGIN:VEVENT
DTSTART;TZID=America/Toronto:20260207T173000
DTEND;TZID=America/Toronto:20260207T173000
DTSTAMP:20260421T191940
CREATED:20250714T185108Z
LAST-MODIFIED:20251106T205415Z
UID:4063-1770485400-1770485400@hawthornschool.com
SUMMARY:Pizza & Games Night
DESCRIPTION:
URL:https://hawthornschool.com/event/pizza-games-night/
CATEGORIES:Parents,Winter Events
END:VEVENT
BEGIN:VEVENT
DTSTART;TZID=America/Toronto:20260207T163000
DTEND;TZID=America/Toronto:20260207T163000
DTSTAMP:20260421T191940
CREATED:20250714T185032Z
LAST-MODIFIED:20251106T205424Z
UID:4061-1770481800-1770481800@hawthornschool.com
SUMMARY:Family Get Together Mass
DESCRIPTION:
URL:https://hawthornschool.com/event/family-get-together-mass/
CATEGORIES:Parents,Winter Events
END:VEVENT
BEGIN:VEVENT
DTSTART;TZID=America/Toronto:20260206T083000
DTEND;TZID=America/Toronto:20260206T083000
DTSTAMP:20260421T191940
CREATED:20250714T184943Z
LAST-MODIFIED:20251106T205434Z
UID:4059-1770366600-1770366600@hawthornschool.com
SUMMARY:Cafe Ole
DESCRIPTION:
URL:https://hawthornschool.com/event/cafe-ole-6/
CATEGORIES:Parents,Winter Events
END:VEVENT
BEGIN:VEVENT
DTSTART;TZID=America/Toronto:20260206T083000
DTEND;TZID=America/Toronto:20260206T083000
DTSTAMP:20260421T191940
CREATED:20250714T184903Z
LAST-MODIFIED:20250714T184903Z
UID:4057-1770366600-1770366600@hawthornschool.com
SUMMARY:#1 Dress Day : First Friday Devotion
DESCRIPTION:
URL:https://hawthornschool.com/event/1-dress-day-first-friday-devotion-8/
END:VEVENT
BEGIN:VEVENT
DTSTART;TZID=America/Toronto:20260204T190000
DTEND;TZID=America/Toronto:20260204T190000
DTSTAMP:20260421T191940
CREATED:20250714T184819Z
LAST-MODIFIED:20251106T205125Z
UID:4055-1770231600-1770231600@hawthornschool.com
SUMMARY:Dad's Night Out
DESCRIPTION:
URL:https://hawthornschool.com/event/dads-night-out-10/
CATEGORIES:Parents,Winter Events
END:VEVENT
BEGIN:VEVENT
DTSTART;TZID=America/Toronto:20260202T083000
DTEND;TZID=America/Toronto:20260202T083000
DTSTAMP:20260421T191940
CREATED:20250714T184736Z
LAST-MODIFIED:20250714T184736Z
UID:4053-1770021000-1770021000@hawthornschool.com
SUMMARY:CISMF Rehearsal
DESCRIPTION:
URL:https://hawthornschool.com/event/cismf-rehearsal-4/
END:VEVENT
BEGIN:VEVENT
DTSTART;TZID=America/Toronto:20260129T180000
DTEND;TZID=America/Toronto:20260129T180000
DTSTAMP:20260421T191940
CREATED:20250714T190438Z
LAST-MODIFIED:20251106T205133Z
UID:4090-1769709600-1769709600@hawthornschool.com
SUMMARY:All-School Hawthorn Exhibition
DESCRIPTION:Time TBC
URL:https://hawthornschool.com/event/all-school-hawthorn-exhibition-2/
CATEGORIES:Parents,Winter Events
END:VEVENT
BEGIN:VEVENT
DTSTART;TZID=America/Toronto:20260129T173000
DTEND;TZID=America/Toronto:20260129T173000
DTSTAMP:20260421T191940
CREATED:20250714T190513Z
LAST-MODIFIED:20250714T190525Z
UID:4092-1769707800-1769707800@hawthornschool.com
SUMMARY:Open House
DESCRIPTION:Time TBC
URL:https://hawthornschool.com/event/open-house-5/
END:VEVENT
BEGIN:VEVENT
DTSTART;TZID=America/Toronto:20260129T173000
DTEND;TZID=America/Toronto:20260129T173000
DTSTAMP:20260421T191940
CREATED:20250714T184526Z
LAST-MODIFIED:20251022T143034Z
UID:4050-1769707800-1769707800@hawthornschool.com
SUMMARY:#1 Dress Day : All-School Hawthorn Exhibition & Open House
DESCRIPTION:Register below:\n \nThursday\, January 29\, 2026\nhttps://forms.gle/v91YfGP5NtN9spGB9 \n  \nRegister for the next Open House below: \n\nThursday\, May 21\, 2026
URL:https://hawthornschool.com/event/1-dress-day-all-school-hawthorn-exhibition/
END:VEVENT
BEGIN:VEVENT
DTSTART;TZID=America/Toronto:20260128T110000
DTEND;TZID=America/Toronto:20260128T110000
DTSTAMP:20260421T191940
CREATED:20250731T153450Z
LAST-MODIFIED:20260122T172718Z
UID:4233-1769598000-1769598000@hawthornschool.com
SUMMARY:All-School Mass with His Eminence
DESCRIPTION:You and your family are cordially invited to Hawthorn to come and celebrate Mass with His Eminence Frank Cardinal Leo\, Metropolitan Archbishop of Toronto.\nMass will begin at 11 a.m. in the Atrium.
URL:https://hawthornschool.com/event/all-school-mass-with-his-eminence/
CATEGORIES:Parents,Winter Events
END:VEVENT
BEGIN:VEVENT
DTSTART;TZID=America/Toronto:20260128T083000
DTEND;TZID=America/Toronto:20260128T083000
DTSTAMP:20260421T191940
CREATED:20250714T184414Z
LAST-MODIFIED:20250714T184414Z
UID:4048-1769589000-1769589000@hawthornschool.com
SUMMARY:#1 Dress Day : Cardinal Visit to Hawthorn
DESCRIPTION:
URL:https://hawthornschool.com/event/1-dress-day-cardinal-visit-to-hawthorn/
END:VEVENT
BEGIN:VEVENT
DTSTART;TZID=America/Toronto:20260123T083000
DTEND;TZID=America/Toronto:20260123T083000
DTSTAMP:20260421T191940
CREATED:20250714T183955Z
LAST-MODIFIED:20250714T183955Z
UID:4036-1769157000-1769157000@hawthornschool.com
SUMMARY:Footprints in the Snow Clothing Drive
DESCRIPTION:
URL:https://hawthornschool.com/event/footprints-in-the-snow-clothing-drive-19/
END:VEVENT
BEGIN:VEVENT
DTSTART;TZID=America/Toronto:20260122T190000
DTEND;TZID=America/Toronto:20260122T190000
DTSTAMP:20260421T191940
CREATED:20250714T184328Z
LAST-MODIFIED:20251106T205208Z
UID:4046-1769108400-1769108400@hawthornschool.com
SUMMARY:US Preview Night
DESCRIPTION:
URL:https://hawthornschool.com/event/us-information-night-3/
CATEGORIES:Parents,Winter Events
END:VEVENT
BEGIN:VEVENT
DTSTART;TZID=America/Toronto:20260122T160000
DTEND;TZID=America/Toronto:20260122T200000
DTSTAMP:20260421T191940
CREATED:20250714T184252Z
LAST-MODIFIED:20251106T205218Z
UID:4044-1769097600-1769112000@hawthornschool.com
SUMMARY:JS & LS Parent/Mentor/Teacher Interviews
DESCRIPTION:
URL:https://hawthornschool.com/event/js-ls-parent-mentor-teacher-interviews/
CATEGORIES:Parents,Winter Events
END:VEVENT
BEGIN:VEVENT
DTSTART;TZID=America/Toronto:20260122T100000
DTEND;TZID=America/Toronto:20260122T113000
DTSTAMP:20260421T191940
CREATED:20260119T163744Z
LAST-MODIFIED:20260119T163744Z
UID:5002-1769076000-1769081400@hawthornschool.com
SUMMARY:Recollection for Women
DESCRIPTION:
URL:https://hawthornschool.com/event/recollection-for-women-9/
END:VEVENT
BEGIN:VEVENT
DTSTART;TZID=America/Toronto:20260122T083000
DTEND;TZID=America/Toronto:20260122T083000
DTSTAMP:20260421T191940
CREATED:20250714T183928Z
LAST-MODIFIED:20250714T183928Z
UID:4034-1769070600-1769070600@hawthornschool.com
SUMMARY:Footprints in the Snow Clothing Drive
DESCRIPTION:
URL:https://hawthornschool.com/event/footprints-in-the-snow-clothing-drive-18/
END:VEVENT
BEGIN:VEVENT
DTSTART;TZID=America/Toronto:20260121T153000
DTEND;TZID=America/Toronto:20260121T163000
DTSTAMP:20260421T191940
CREATED:20260119T162611Z
LAST-MODIFIED:20260119T162611Z
UID:4998-1769009400-1769013000@hawthornschool.com
SUMMARY:Gr 3-5 Vela Club
DESCRIPTION:
URL:https://hawthornschool.com/event/gr-3-5-vela-club/
END:VEVENT
BEGIN:VEVENT
DTSTART;TZID=America/Toronto:20260121T150000
DTEND;TZID=America/Toronto:20260121T150000
DTSTAMP:20260421T191940
CREATED:20260119T163300Z
LAST-MODIFIED:20260119T163300Z
UID:5000-1769007600-1769007600@hawthornschool.com
SUMMARY:Gr 9-12 volleyball HOME GAME vs Pickering College 3pm
DESCRIPTION:
URL:https://hawthornschool.com/event/gr-9-12-volleyball-home-game-vs-pickering-college-3pm/
END:VEVENT
BEGIN:VEVENT
DTSTART;TZID=America/Toronto:20260121T100000
DTEND;TZID=America/Toronto:20260121T113000
DTSTAMP:20260421T191940
CREATED:20260119T161855Z
LAST-MODIFIED:20260119T161855Z
UID:4992-1768989600-1768995000@hawthornschool.com
SUMMARY:Recollection for Women
DESCRIPTION:
URL:https://hawthornschool.com/event/recollection-for-women-10/
END:VEVENT
BEGIN:VEVENT
DTSTART;TZID=America/Toronto:20260121T083000
DTEND;TZID=America/Toronto:20260121T083000
DTSTAMP:20260421T191940
CREATED:20260115T180637Z
LAST-MODIFIED:20260115T180637Z
UID:4964-1768984200-1768984200@hawthornschool.com
SUMMARY:Hawthorn Spirit Wear Day
DESCRIPTION:
URL:https://hawthornschool.com/event/hawthorn-spirit-wear-day-6/
END:VEVENT
BEGIN:VEVENT
DTSTART;TZID=America/Toronto:20260121T083000
DTEND;TZID=America/Toronto:20260121T083000
DTSTAMP:20260421T191940
CREATED:20250714T183901Z
LAST-MODIFIED:20250714T183901Z
UID:4032-1768984200-1768984200@hawthornschool.com
SUMMARY:Footprints in the Snow Clothing Drive
DESCRIPTION:
URL:https://hawthornschool.com/event/footprints-in-the-snow-clothing-drive-17/
END:VEVENT
BEGIN:VEVENT
DTSTART;TZID=America/Toronto:20260121T081500
DTEND;TZID=America/Toronto:20260121T081500
DTSTAMP:20260421T191940
CREATED:20250714T184210Z
LAST-MODIFIED:20260115T181116Z
UID:4042-1768983300-1768983300@hawthornschool.com
SUMMARY:All-School Father Fest Breakfast
DESCRIPTION:Our annual All-School Father Fest will take place on Wednesday\, January 21\, 2026! \nWe are happy to continue our tradition of welcoming dads to join us for a complimentary sit-down breakfast with their child(ren) here at school. Breakfast will be held from 8:15–9:15 a.m. \nWe hope all fathers can take advantage of this special opportunity to bond with their child(ren) and connect with other dads in our school community. If a dad is unable to attend\, students are welcome to invite another member of their household to join them (for example\, mom!). \nRSVP form for this event is now closed. We look forward to celebrating this special morning together! \nIf you have any questions\, please feel free to contact the Administration via administration@hawthornschool.com. \nThank you.
URL:https://hawthornschool.com/event/all-school-father-fest-breakfast-2/
CATEGORIES:Parents,Winter Events
END:VEVENT
BEGIN:VEVENT
DTSTART;TZID=America/Toronto:20260120T150000
DTEND;TZID=America/Toronto:20260120T150000
DTSTAMP:20260421T191940
CREATED:20260119T153754Z
LAST-MODIFIED:20260119T154135Z
UID:4984-1768921200-1768921200@hawthornschool.com
SUMMARY:Gr 6-8 volleyball HOME GAME vs Lauremont
DESCRIPTION:
URL:https://hawthornschool.com/event/recollection-for-women-8/
END:VEVENT
BEGIN:VEVENT
DTSTART;TZID=America/Toronto:20260120T125500
DTEND;TZID=America/Toronto:20260120T141500
DTSTAMP:20260421T191940
CREATED:20260119T153023Z
LAST-MODIFIED:20260119T153023Z
UID:4982-1768913700-1768918500@hawthornschool.com
SUMMARY:Toastmasters Session #2
DESCRIPTION:
URL:https://hawthornschool.com/event/toastmasters-session-2/
END:VEVENT
BEGIN:VEVENT
DTSTART;TZID=America/Toronto:20260120T083000
DTEND;TZID=America/Toronto:20260120T083000
DTSTAMP:20260421T191940
CREATED:20260115T180143Z
LAST-MODIFIED:20260115T180143Z
UID:4961-1768897800-1768897800@hawthornschool.com
SUMMARY:Hawthorn Spirit Wear Day
DESCRIPTION:
URL:https://hawthornschool.com/event/hawthorn-spirit-wear-day-5/
END:VEVENT
BEGIN:VEVENT
DTSTART;TZID=America/Toronto:20260120T083000
DTEND;TZID=America/Toronto:20260120T083000
DTSTAMP:20260421T191940
CREATED:20250714T183837Z
LAST-MODIFIED:20250714T183837Z
UID:4030-1768897800-1768897800@hawthornschool.com
SUMMARY:Footprints in the Snow Clothing Drive
DESCRIPTION:
URL:https://hawthornschool.com/event/footprints-in-the-snow-clothing-drive-16/
END:VEVENT
BEGIN:VEVENT
DTSTART;TZID=America/Toronto:20260119T083000
DTEND;TZID=America/Toronto:20260119T083000
DTSTAMP:20260421T191940
CREATED:20250714T183812Z
LAST-MODIFIED:20260115T175552Z
UID:4028-1768811400-1768811400@hawthornschool.com
SUMMARY:Footprints in the Snow Clothing Drive
DESCRIPTION:
URL:https://hawthornschool.com/event/footprints-in-the-snow-clothing-drive-15/
END:VEVENT
BEGIN:VEVENT
DTSTART;TZID=America/Toronto:20260116T083000
DTEND;TZID=America/Toronto:20260116T083000
DTSTAMP:20260421T191940
CREATED:20250714T184106Z
LAST-MODIFIED:20251022T142747Z
UID:4040-1768552200-1768552200@hawthornschool.com
SUMMARY:#1 Dress Day : Bee at Hawthorn Day
DESCRIPTION:Register below:\n \nFriday\, January 16\, 2026\nhttps://forms.gle/v91YfGP5NtN9spGB9 \n  \nRegister for the next Open House below: \n\nThursday\, January 29\, 2026 \nThursday\, May 21\, 2026
URL:https://hawthornschool.com/event/1-dress-day-bee-at-hawthorn-day-4/
END:VEVENT
BEGIN:VEVENT
DTSTART;TZID=America/Toronto:20260116T083000
DTEND;TZID=America/Toronto:20260116T083000
DTSTAMP:20260421T191940
CREATED:20250714T183738Z
LAST-MODIFIED:20250714T183738Z
UID:4026-1768552200-1768552200@hawthornschool.com
SUMMARY:Footprints in the Snow Clothing Drive
DESCRIPTION:
URL:https://hawthornschool.com/event/footprints-in-the-snow-clothing-drive-14/
END:VEVENT
BEGIN:VEVENT
DTSTART;TZID=America/Toronto:20260115T190000
DTEND;TZID=America/Toronto:20260115T190000
DTSTAMP:20260421T191940
CREATED:20250714T184026Z
LAST-MODIFIED:20260108T205749Z
UID:4038-1768503600-1768503600@hawthornschool.com
SUMMARY:Mom's Night Out
DESCRIPTION:
URL:https://hawthornschool.com/event/moms-night-out-3/
CATEGORIES:Parents,Winter Events
END:VEVENT
END:VCALENDAR