BEGIN:VCALENDAR
VERSION:2.0
PRODID:-//Hawthorn School - ECPv6.15.20//NONSGML v1.0//EN
CALSCALE:GREGORIAN
METHOD:PUBLISH
X-WR-CALNAME:Hawthorn School
X-ORIGINAL-URL:https://hawthornschool.com
X-WR-CALDESC:Events for Hawthorn School
REFRESH-INTERVAL;VALUE=DURATION:PT1H
X-Robots-Tag:noindex
X-PUBLISHED-TTL:PT1H
BEGIN:VTIMEZONE
TZID:America/Toronto
BEGIN:DAYLIGHT
TZOFFSETFROM:-0500
TZOFFSETTO:-0400
TZNAME:EDT
DTSTART:20240310T070000
END:DAYLIGHT
BEGIN:STANDARD
TZOFFSETFROM:-0400
TZOFFSETTO:-0500
TZNAME:EST
DTSTART:20241103T060000
END:STANDARD
BEGIN:DAYLIGHT
TZOFFSETFROM:-0500
TZOFFSETTO:-0400
TZNAME:EDT
DTSTART:20250309T070000
END:DAYLIGHT
BEGIN:STANDARD
TZOFFSETFROM:-0400
TZOFFSETTO:-0500
TZNAME:EST
DTSTART:20251102T060000
END:STANDARD
BEGIN:DAYLIGHT
TZOFFSETFROM:-0500
TZOFFSETTO:-0400
TZNAME:EDT
DTSTART:20260308T070000
END:DAYLIGHT
BEGIN:STANDARD
TZOFFSETFROM:-0400
TZOFFSETTO:-0500
TZNAME:EST
DTSTART:20261101T060000
END:STANDARD
END:VTIMEZONE
BEGIN:VEVENT
DTSTART;TZID=America/Toronto:20251231T083000
DTEND;TZID=America/Toronto:20251231T083000
DTSTAMP:20260422T003209
CREATED:20250808T160738Z
LAST-MODIFIED:20250808T160738Z
UID:4340-1767169800-1767169800@hawthornschool.com
SUMMARY:New Year's Eve
DESCRIPTION:
URL:https://hawthornschool.com/event/new-years-eve/
END:VEVENT
BEGIN:VEVENT
DTSTART;TZID=America/Toronto:20251226T083000
DTEND;TZID=America/Toronto:20251226T083000
DTSTAMP:20260422T003209
CREATED:20250808T160700Z
LAST-MODIFIED:20250808T160700Z
UID:4338-1766737800-1766737800@hawthornschool.com
SUMMARY:Boxing Day
DESCRIPTION:
URL:https://hawthornschool.com/event/boxing-day/
END:VEVENT
BEGIN:VEVENT
DTSTART;TZID=America/Toronto:20251225T083000
DTEND;TZID=America/Toronto:20251225T083000
DTSTAMP:20260422T003209
CREATED:20250808T160632Z
LAST-MODIFIED:20250808T160632Z
UID:4336-1766651400-1766651400@hawthornschool.com
SUMMARY:Christmas Day
DESCRIPTION:
URL:https://hawthornschool.com/event/christmas-day/
END:VEVENT
BEGIN:VEVENT
DTSTART;TZID=America/Toronto:20251224T083000
DTEND;TZID=America/Toronto:20251224T083000
DTSTAMP:20260422T003209
CREATED:20250808T160601Z
LAST-MODIFIED:20250808T160601Z
UID:4334-1766565000-1766565000@hawthornschool.com
SUMMARY:Christmas Eve
DESCRIPTION:
URL:https://hawthornschool.com/event/christmas-eve/
END:VEVENT
BEGIN:VEVENT
DTSTART;TZID=America/Toronto:20251222T083000
DTEND;TZID=America/Toronto:20251222T083000
DTSTAMP:20260422T003209
CREATED:20250714T161324Z
LAST-MODIFIED:20250714T161324Z
UID:4004-1766392200-1766392200@hawthornschool.com
SUMMARY:Christmas Holiday Begins
DESCRIPTION:
URL:https://hawthornschool.com/event/christmas-holiday-begins/
END:VEVENT
BEGIN:VEVENT
DTSTART;TZID=America/Toronto:20251219T140000
DTEND;TZID=America/Toronto:20251219T140000
DTSTAMP:20260422T003209
CREATED:20250714T161241Z
LAST-MODIFIED:20250714T161241Z
UID:4002-1766152800-1766152800@hawthornschool.com
SUMMARY:Early Dismissal (no after school program)
DESCRIPTION:
URL:https://hawthornschool.com/event/early-dismissal-no-after-school-program/
END:VEVENT
BEGIN:VEVENT
DTSTART;TZID=America/Toronto:20251219T121500
DTEND;TZID=America/Toronto:20251219T121500
DTSTAMP:20260422T003209
CREATED:20250714T161149Z
LAST-MODIFIED:20251212T190454Z
UID:4000-1766146500-1766146500@hawthornschool.com
SUMMARY:Christmas Luncheon for families
DESCRIPTION:Dear Hawthorn Parents and Staff\, \nIt has been a tradition here at Hawthorn to have our students\, parents and staff get together for a Christmas luncheon before the Christmas break and we invite you to join us! It will be held on Friday\, December 19th after the 11:45 a.m. Mass. \nA complimentary catered lunch will be served for all students from Kindergarten to Grade 12. Parents and siblings of our students who are coming may order the luncheon for $15 per child / $20 per adult. \nPlease complete this form by Friday\, December 12th\, https://docs.google.com/forms/d/e/1FAIpQLSfadI4NvXZejBCvb0vfsQiqBcrXR1fCtTUOIzXZVMzwYo8qhA/viewform?usp=sharing&ouid=114274384372774816888 \nThe meal will include a choice of a main dish\, bread and vegetables on the side\, and a dessert prepared by The Kitchenstead. \nNOTE: Please submit a form for each of the participant (including Hawthorn students) so that we can take note of their meal preference and include them in the count. \nFor any questions\, please contact the administration at 416-444-3054 or at administration@hawthornschool.com\nSee you on Friday!
URL:https://hawthornschool.com/event/christmas-luncheon-for-families-2/
CATEGORIES:Parents,Winter Events
END:VEVENT
BEGIN:VEVENT
DTSTART;TZID=America/Toronto:20251219T083000
DTEND;TZID=America/Toronto:20251219T083000
DTSTAMP:20260422T003209
CREATED:20251201T200613Z
LAST-MODIFIED:20251201T200613Z
UID:4838-1766133000-1766133000@hawthornschool.com
SUMMARY:US Jeans Day
DESCRIPTION:
URL:https://hawthornschool.com/event/us-jeans-day-12/
END:VEVENT
BEGIN:VEVENT
DTSTART;TZID=America/Toronto:20251218T083000
DTEND;TZID=America/Toronto:20251218T083000
DTSTAMP:20260422T003209
CREATED:20251201T200538Z
LAST-MODIFIED:20251201T200538Z
UID:4836-1766046600-1766046600@hawthornschool.com
SUMMARY:US Jeans Day
DESCRIPTION:
URL:https://hawthornschool.com/event/us-jeans-day-11/
END:VEVENT
BEGIN:VEVENT
DTSTART;TZID=America/Toronto:20251217T101000
DTEND;TZID=America/Toronto:20251217T113000
DTSTAMP:20260422T003209
CREATED:20250808T160525Z
LAST-MODIFIED:20251106T205040Z
UID:4332-1765966200-1765971000@hawthornschool.com
SUMMARY:Recollection for Women
DESCRIPTION:
URL:https://hawthornschool.com/event/recollection-for-women-7/
CATEGORIES:Parents,Winter Events
END:VEVENT
BEGIN:VEVENT
DTSTART;TZID=America/Toronto:20251217T083000
DTEND;TZID=America/Toronto:20251217T083000
DTSTAMP:20260422T003209
CREATED:20251201T200125Z
LAST-MODIFIED:20251201T200125Z
UID:4834-1765960200-1765960200@hawthornschool.com
SUMMARY:US Jeans Day
DESCRIPTION:
URL:https://hawthornschool.com/event/us-jeans-day-10/
END:VEVENT
BEGIN:VEVENT
DTSTART;TZID=America/Toronto:20251216T083000
DTEND;TZID=America/Toronto:20251216T083000
DTSTAMP:20260422T003209
CREATED:20251201T200042Z
LAST-MODIFIED:20251201T200042Z
UID:4831-1765873800-1765873800@hawthornschool.com
SUMMARY:US Jeans Day
DESCRIPTION:
URL:https://hawthornschool.com/event/us-jeans-day-9/
END:VEVENT
BEGIN:VEVENT
DTSTART;TZID=America/Toronto:20251216T083000
DTEND;TZID=America/Toronto:20251216T083000
DTSTAMP:20260422T003209
CREATED:20251201T195957Z
LAST-MODIFIED:20251201T195957Z
UID:4829-1765873800-1765873800@hawthornschool.com
SUMMARY:US Jeans Day
DESCRIPTION:
URL:https://hawthornschool.com/event/us-jeans-day-8/
END:VEVENT
BEGIN:VEVENT
DTSTART;TZID=America/Toronto:20251215T151500
DTEND;TZID=America/Toronto:20251215T154500
DTSTAMP:20260422T003209
CREATED:20250808T160434Z
LAST-MODIFIED:20250808T160434Z
UID:4330-1765811700-1765813500@hawthornschool.com
SUMMARY:LS Co-curriculars
DESCRIPTION:
URL:https://hawthornschool.com/event/ls-co-curriculars-11/
END:VEVENT
BEGIN:VEVENT
DTSTART;TZID=America/Toronto:20251215T151500
DTEND;TZID=America/Toronto:20251215T151500
DTSTAMP:20260422T003209
CREATED:20250714T161050Z
LAST-MODIFIED:20250714T161050Z
UID:3998-1765811700-1765811700@hawthornschool.com
SUMMARY:Muffin Monday
DESCRIPTION:
URL:https://hawthornschool.com/event/muffin-monday-2/
END:VEVENT
BEGIN:VEVENT
DTSTART;TZID=America/Toronto:20251215T140000
DTEND;TZID=America/Toronto:20251215T140000
DTSTAMP:20260422T003209
CREATED:20251201T195804Z
LAST-MODIFIED:20251201T195804Z
UID:4827-1765807200-1765807200@hawthornschool.com
SUMMARY:Hawthorn Christmas Mini-Market
DESCRIPTION:
URL:https://hawthornschool.com/event/hawthorn-christmas-mini-market/
END:VEVENT
BEGIN:VEVENT
DTSTART;TZID=America/Toronto:20251215T083000
DTEND;TZID=America/Toronto:20251215T083000
DTSTAMP:20260422T003209
CREATED:20251201T130017Z
LAST-MODIFIED:20251201T195726Z
UID:4825-1765787400-1765787400@hawthornschool.com
SUMMARY:All School Christmas Themed Jeans Day
DESCRIPTION:
URL:https://hawthornschool.com/event/all-school-christmas-themed-jeans-day/
END:VEVENT
BEGIN:VEVENT
DTSTART;TZID=America/Toronto:20251212T160000
DTEND;TZID=America/Toronto:20251212T160000
DTSTAMP:20260422T003209
CREATED:20250714T161006Z
LAST-MODIFIED:20250714T161006Z
UID:3996-1765555200-1765555200@hawthornschool.com
SUMMARY:Faculty Advent & Christmas Celebration (no after school program)
DESCRIPTION:
URL:https://hawthornschool.com/event/faculty-advent-christmas-celebration-no-after-school-program-2/
END:VEVENT
BEGIN:VEVENT
DTSTART;TZID=America/Toronto:20251212T083000
DTEND;TZID=America/Toronto:20251212T083000
DTSTAMP:20260422T003209
CREATED:20250808T161340Z
LAST-MODIFIED:20251201T195331Z
UID:4344-1765528200-1765528200@hawthornschool.com
SUMMARY:All School Jeans Day
DESCRIPTION:
URL:https://hawthornschool.com/event/all-school-jeans-day-3/
END:VEVENT
BEGIN:VEVENT
DTSTART;TZID=America/Toronto:20251212T083000
DTEND;TZID=America/Toronto:20251212T083000
DTSTAMP:20260422T003209
CREATED:20250714T160919Z
LAST-MODIFIED:20251201T195425Z
UID:3994-1765528200-1765528200@hawthornschool.com
SUMMARY:All School Advent Field Trip
DESCRIPTION:
URL:https://hawthornschool.com/event/all-school-christmas-activity-2/
END:VEVENT
BEGIN:VEVENT
DTSTART;TZID=America/Toronto:20251211T083000
DTEND;TZID=America/Toronto:20251211T083000
DTSTAMP:20260422T003209
CREATED:20250714T160036Z
LAST-MODIFIED:20251201T153907Z
UID:3974-1765441800-1765441800@hawthornschool.com
SUMMARY:Christmas Generosity Project
DESCRIPTION:Dear Hawthorn Parents and Students\, \nEvery year in December\, Hawthorn School collaborates with the Missionaries of Charity here in Toronto. The Order of the Missionaries of Charity cares for the blind\, the elderly\, the dying\, refugees\, and all those in need in the poorest communities of the city. \nWe partner with the Missionaries of Charity at Christmas in providing support for current families in need. This year\, the Missionaries are asking if we can help at least five families in need of a Christmas gift. \nThis Christmas\, we have decided to build community and involvement with our students in creating Christmas Hampers filled with essential pantry food items\, small craft items and gift cards that the families can use to make their Christmas meal and season special. \nWe are looking for your participation in giving\, if possible\, at least two gift cards per student in denominations of $25 for stores like Walmart\, President Choice\, or other easily accessible locations where recipients can find anything they could need (clothes\, shoes\, food\, toys\, electronics\, household items\, etc). \nStarting today and until December 5th gift cards can be ordered through the Hawthorn Gift card program\, by doing so\, your generosity goes farther not only helping families in need\, but also helping Hawthorn. The order form is attached\, and some extra copies are available at the office. \nStudents will receive house points for every gift card sent: \n\n\n15 house points: For each gift card ordered through the Hawthorn Gift Card Program. Deadline to order through the school is Friday\, December 5th. Please fill a form just for this purpose (do not mix with personal orders) and indicate at the top the order is for the generosity project. Forms attached for your convenience.\n\n\n\n\n10 house points: For gift cards bought outside the gift card program until December 12th\n\n\nLed by the Curie House\, our students will assemble gift baskets together on Monday\, December 15th in the afternoon for the Christmas Generosity Project. The Upper School students will then deliver the hampers to the Missionaries of Charity\, who will distribute the gifts to the families by Christmas day. \nThank you so much for your help to share the joy of Christmas with these residents of Toronto. \nIf you have any questions\, please do not hesitate to contact Mrs. Saishio msaishio@hawthornschool.com \nOn behalf of the Curie House\, thank you for your generosity! \nThe Christmas Generosity Project Team
URL:https://hawthornschool.com/event/christmas-generosity-project-10/
END:VEVENT
BEGIN:VEVENT
DTSTART;TZID=America/Toronto:20251210T121500
DTEND;TZID=America/Toronto:20251210T124500
DTSTAMP:20260422T003209
CREATED:20251201T184503Z
LAST-MODIFIED:20251201T195220Z
UID:4819-1765368900-1765370700@hawthornschool.com
SUMMARY:Huron University Visit
DESCRIPTION:Lunch and learn with Huron University
URL:https://hawthornschool.com/event/huron-university-visit/
END:VEVENT
BEGIN:VEVENT
DTSTART;TZID=America/Toronto:20251210T083000
DTEND;TZID=America/Toronto:20251210T083000
DTSTAMP:20260422T003209
CREATED:20250714T160004Z
LAST-MODIFIED:20251201T153848Z
UID:3972-1765355400-1765355400@hawthornschool.com
SUMMARY:Christmas Generosity Project
DESCRIPTION:Dear Hawthorn Parents and Students\, \nEvery year in December\, Hawthorn School collaborates with the Missionaries of Charity here in Toronto. The Order of the Missionaries of Charity cares for the blind\, the elderly\, the dying\, refugees\, and all those in need in the poorest communities of the city. \nWe partner with the Missionaries of Charity at Christmas in providing support for current families in need. This year\, the Missionaries are asking if we can help at least five families in need of a Christmas gift. \nThis Christmas\, we have decided to build community and involvement with our students in creating Christmas Hampers filled with essential pantry food items\, small craft items and gift cards that the families can use to make their Christmas meal and season special. \nWe are looking for your participation in giving\, if possible\, at least two gift cards per student in denominations of $25 for stores like Walmart\, President Choice\, or other easily accessible locations where recipients can find anything they could need (clothes\, shoes\, food\, toys\, electronics\, household items\, etc). \nStarting today and until December 5th gift cards can be ordered through the Hawthorn Gift card program\, by doing so\, your generosity goes farther not only helping families in need\, but also helping Hawthorn. The order form is attached\, and some extra copies are available at the office. \nStudents will receive house points for every gift card sent: \n\n\n15 house points: For each gift card ordered through the Hawthorn Gift Card Program. Deadline to order through the school is Friday\, December 5th. Please fill a form just for this purpose (do not mix with personal orders) and indicate at the top the order is for the generosity project. Forms attached for your convenience.\n\n\n\n\n10 house points: For gift cards bought outside the gift card program until December 12th\n\n\nLed by the Curie House\, our students will assemble gift baskets together on Monday\, December 15th in the afternoon for the Christmas Generosity Project. The Upper School students will then deliver the hampers to the Missionaries of Charity\, who will distribute the gifts to the families by Christmas day. \nThank you so much for your help to share the joy of Christmas with these residents of Toronto. \nIf you have any questions\, please do not hesitate to contact Mrs. Saishio msaishio@hawthornschool.com \nOn behalf of the Curie House\, thank you for your generosity! \nThe Christmas Generosity Project Team
URL:https://hawthornschool.com/event/christmas-generosity-project-9/
END:VEVENT
BEGIN:VEVENT
DTSTART;TZID=America/Toronto:20251209T083000
DTEND;TZID=America/Toronto:20251209T083000
DTSTAMP:20260422T003209
CREATED:20250714T160210Z
LAST-MODIFIED:20251201T153832Z
UID:3978-1765269000-1765269000@hawthornschool.com
SUMMARY:Christmas Generosity Project
DESCRIPTION:Dear Hawthorn Parents and Students\, \nEvery year in December\, Hawthorn School collaborates with the Missionaries of Charity here in Toronto. The Order of the Missionaries of Charity cares for the blind\, the elderly\, the dying\, refugees\, and all those in need in the poorest communities of the city. \nWe partner with the Missionaries of Charity at Christmas in providing support for current families in need. This year\, the Missionaries are asking if we can help at least five families in need of a Christmas gift. \nThis Christmas\, we have decided to build community and involvement with our students in creating Christmas Hampers filled with essential pantry food items\, small craft items and gift cards that the families can use to make their Christmas meal and season special. \nWe are looking for your participation in giving\, if possible\, at least two gift cards per student in denominations of $25 for stores like Walmart\, President Choice\, or other easily accessible locations where recipients can find anything they could need (clothes\, shoes\, food\, toys\, electronics\, household items\, etc). \nStarting today and until December 5th gift cards can be ordered through the Hawthorn Gift card program\, by doing so\, your generosity goes farther not only helping families in need\, but also helping Hawthorn. The order form is attached\, and some extra copies are available at the office. \nStudents will receive house points for every gift card sent: \n\n\n15 house points: For each gift card ordered through the Hawthorn Gift Card Program. Deadline to order through the school is Friday\, December 5th. Please fill a form just for this purpose (do not mix with personal orders) and indicate at the top the order is for the generosity project. Forms attached for your convenience.\n\n\n\n\n10 house points: For gift cards bought outside the gift card program until December 12th\n\n\nLed by the Curie House\, our students will assemble gift baskets together on Monday\, December 15th in the afternoon for the Christmas Generosity Project. The Upper School students will then deliver the hampers to the Missionaries of Charity\, who will distribute the gifts to the families by Christmas day. \nThank you so much for your help to share the joy of Christmas with these residents of Toronto. \nIf you have any questions\, please do not hesitate to contact Mrs. Saishio msaishio@hawthornschool.com \nOn behalf of the Curie House\, thank you for your generosity! \nThe Christmas Generosity Project Team
URL:https://hawthornschool.com/event/christmas-generosity-project-12/
END:VEVENT
BEGIN:VEVENT
DTSTART;TZID=America/Toronto:20251208T151500
DTEND;TZID=America/Toronto:20251208T154500
DTSTAMP:20260422T003209
CREATED:20250808T160337Z
LAST-MODIFIED:20250808T160337Z
UID:4328-1765206900-1765208700@hawthornschool.com
SUMMARY:LS Co-curriculars
DESCRIPTION:
URL:https://hawthornschool.com/event/ls-co-curriculars-10/
END:VEVENT
BEGIN:VEVENT
DTSTART;TZID=America/Toronto:20251208T114500
DTEND;TZID=America/Toronto:20251208T114500
DTSTAMP:20260422T003209
CREATED:20250714T160832Z
LAST-MODIFIED:20251106T205000Z
UID:3992-1765194300-1765194300@hawthornschool.com
SUMMARY:All-School Mass
DESCRIPTION:
URL:https://hawthornschool.com/event/all-school-mass-5/
CATEGORIES:Parents,Winter Events
END:VEVENT
BEGIN:VEVENT
DTSTART;TZID=America/Toronto:20251208T083000
DTEND;TZID=America/Toronto:20251208T083000
DTSTAMP:20260422T003209
CREATED:20250714T160740Z
LAST-MODIFIED:20251022T142433Z
UID:3990-1765182600-1765182600@hawthornschool.com
SUMMARY:Open House
DESCRIPTION:Register below:\n \nMonday\, December 8\, 2025\nhttps://forms.gle/v91YfGP5NtN9spGB9 \n  \nFuture Bee at Hawthorn Day: \nFriday\, January 16\, 2026\nhttps://forms.gle/evdF7vBaQvpif2Z77  \n  \nRegister for the next Open House below: \n\nThursday\, January 29\, 2026 \nThursday\, May 21\, 2026
URL:https://hawthornschool.com/event/open-house-4/
END:VEVENT
BEGIN:VEVENT
DTSTART;TZID=America/Toronto:20251208T083000
DTEND;TZID=America/Toronto:20251208T083000
DTSTAMP:20260422T003209
CREATED:20250714T160711Z
LAST-MODIFIED:20250714T160711Z
UID:3988-1765182600-1765182600@hawthornschool.com
SUMMARY:#1 Dress Day : Solemnity of the Immaculate Conception
DESCRIPTION:
URL:https://hawthornschool.com/event/1-dress-day-solemnity-of-the-immaculate-conception/
END:VEVENT
BEGIN:VEVENT
DTSTART;TZID=America/Toronto:20251208T083000
DTEND;TZID=America/Toronto:20251208T083000
DTSTAMP:20260422T003209
CREATED:20250714T155931Z
LAST-MODIFIED:20251201T153203Z
UID:3970-1765182600-1765182600@hawthornschool.com
SUMMARY:Christmas Generosity Project
DESCRIPTION:Dear Hawthorn Parents and Students\, \nEvery year in December\, Hawthorn School collaborates with the Missionaries of Charity here in Toronto. The Order of the Missionaries of Charity cares for the blind\, the elderly\, the dying\, refugees\, and all those in need in the poorest communities of the city. \nWe partner with the Missionaries of Charity at Christmas in providing support for current families in need. This year\, the Missionaries are asking if we can help at least five families in need of a Christmas gift. \nThis Christmas\, we have decided to build community and involvement with our students in creating Christmas Hampers filled with essential pantry food items\, small craft items and gift cards that the families can use to make their Christmas meal and season special. \nWe are looking for your participation in giving\, if possible\, at least two gift cards per student in denominations of $25 for stores like Walmart\, President Choice\, or other easily accessible locations where recipients can find anything they could need (clothes\, shoes\, food\, toys\, electronics\, household items\, etc). \nStarting today and until December 5th gift cards can be ordered through the Hawthorn Gift card program\, by doing so\, your generosity goes farther not only helping families in need\, but also helping Hawthorn. The order form is attached\, and some extra copies are available at the office. \nStudents will receive house points for every gift card sent: \n\n\n15 house points: For each gift card ordered through the Hawthorn Gift Card Program. Deadline to order through the school is Friday\, December 5th. Please fill a form just for this purpose (do not mix with personal orders) and indicate at the top the order is for the generosity project. Forms attached for your convenience.\n\n\n\n\n10 house points: For gift cards bought outside the gift card program until December 12th\n\n\nLed by the Curie House\, our students will assemble gift baskets together on Monday\, December 15th in the afternoon for the Christmas Generosity Project. The Upper School students will then deliver the hampers to the Missionaries of Charity\, who will distribute the gifts to the families by Christmas day. \nThank you so much for your help to share the joy of Christmas with these residents of Toronto. \nIf you have any questions\, please do not hesitate to contact Mrs. Saishio msaishio@hawthornschool.com \nOn behalf of the Curie House\, thank you for your generosity! \nThe Christmas Generosity Project Team
URL:https://hawthornschool.com/event/christmas-generosity-project-8/
END:VEVENT
BEGIN:VEVENT
DTSTART;TZID=America/Toronto:20251205T180000
DTEND;TZID=America/Toronto:20251205T180000
DTSTAMP:20260422T003209
CREATED:20250714T160619Z
LAST-MODIFIED:20251126T141834Z
UID:3986-1764957600-1764957600@hawthornschool.com
SUMMARY:All-School Advent Lessons and Carols & Christmas Nativity Pageant
DESCRIPTION:Dear Hawthorn Parents\, Faculty\, Staff\, Mentors\, & Students\, \nYou are cordially invited to join us for our annual Christmas at Hawthorn event on Friday\, December 5\, at 6:00 PM. It is an all-school family celebration of Advent and Christmas with the participation of students from Junior School to Grade 12. \nPLEASE NOTE THIS UPDATE: Students will have an early dismissal from school at 2:00 PM and are expected to return by 5:30 PM. After-school care will not be provided. \nWhen: All guests and participants are asked to enter the back porch entrance of the school. Refreshments will be received in the Atrium. Information about refreshments will be made available prior to the event. \nWhere: Hawthorn School gymnasium. \nWhat: JK to Grade 7 students will prepare in their homeroom classrooms; Upper School musicians and readers will prepare in Room 206 in the Lower School. Grade 6 to 12 students are reminded to bring their instruments\, music binders\, and/or readings. \nAttire: Students in JK to Grade 12 are asked to wear their #1 Dress uniform\, with stockings/tights and hair well groomed\, unless otherwise specified by the Pageant coordinators. \nSeating: Students in JK to Grade 5 are asked to sit with their parents during the Advent Lessons & Carols\, like at an event. There is no reserved seating. Kindly follow the program to make the most out of the experience. \nFeel free to invite your relatives and friends! \nShould you have any questions\, please feel free to contact administration@hawthornschool.com. \nWe eagerly look forward to this event!
URL:https://hawthornschool.com/event/all-school-advent-lessons-and-carols-christmas-nativity-pageant-2/
CATEGORIES:Parents,Winter Events
END:VEVENT
END:VCALENDAR